BEGIN:VCALENDAR
VERSION:2.0
PRODID:-//AusschreibungsRadar//Timeline//DE
CALSCALE:GREGORIAN
METHOD:PUBLISH
X-WR-CALNAME:Projekt Druck- und Versanddienstleistungen für Kundenzeitschriften
X-WR-TIMEZONE:Europe/Berlin
BEGIN:VEVENT
UID:92d07a1c0c96d7d7@ausschreibungsradar.com
DTSTAMP:20260424T105748Z
DTSTART;VALUE=DATE:20250129
DTEND;VALUE=DATE:20250129
SUMMARY:Angebotsfrist — Druck- und Versanddienstleistungen für Kundenzeitschriften
DESCRIPTION:Phase: Ausschreibung | Beschreibung: Angebote werden eingeholt | Link: https://ausschreibungsradar.com/ausschreibung/d153a28b-8dcb-4778-ad55-87ad4a0e158d/ | Geschätzter Wert: 4513390 €
URL:https://ausschreibungsradar.com/ausschreibung/d153a28b-8dcb-4778-ad55-87ad4a0e158d/
END:VEVENT
BEGIN:VEVENT
UID:df419cf7c608dde4@ausschreibungsradar.com
DTSTAMP:20260424T105748Z
DTSTART;VALUE=DATE:20250312
DTEND;VALUE=DATE:20250312
SUMMARY:Vergabeergebnis — Druck- und Versanddienstleistungen für Kundenzeitschriften
DESCRIPTION:Phase: Vergabeergebnis | Beschreibung: Auftrag wurde zugeschlagen | Link: https://ausschreibungsradar.com/ausschreibung/981b5f4d-9984-438b-8e1c-c8e98ce658fb/ | Auftragnehmer: L.N. Schaffrath GmbH & Co
URL:https://ausschreibungsradar.com/ausschreibung/981b5f4d-9984-438b-8e1c-c8e98ce658fb/
END:VEVENT
END:VCALENDAR
