BEGIN:VCALENDAR
VERSION:2.0
PRODID:-//AusschreibungsRadar//Timeline//DE
CALSCALE:GREGORIAN
METHOD:PUBLISH
X-WR-CALNAME:Projekt Neubau Quartierszentrum Alzey | Energieberatung
X-WR-TIMEZONE:Europe/Berlin
BEGIN:VEVENT
UID:c28e82401c84b648@ausschreibungsradar.com
DTSTAMP:20260424T101509Z
DTSTART;VALUE=DATE:20250416
DTEND;VALUE=DATE:20250416
SUMMARY:Ausschreibung — Neubau Quartierszentrum Alzey | Energieberatung
DESCRIPTION:Phase: Ausschreibung | Beschreibung: Angebote werden eingeholt | Link: https://ausschreibungsradar.com/ausschreibung/4a97d186-92b1-400a-9560-c90e5303856d/
URL:https://ausschreibungsradar.com/ausschreibung/4a97d186-92b1-400a-9560-c90e5303856d/
END:VEVENT
BEGIN:VEVENT
UID:e337d6f30575a2b8@ausschreibungsradar.com
DTSTAMP:20260424T101509Z
DTSTART;VALUE=DATE:20250731
DTEND;VALUE=DATE:20250731
SUMMARY:Vergabeergebnis — Neubau Quartierszentrum Alzey | Energieberatung
DESCRIPTION:Phase: Vergabeergebnis | Beschreibung: Verfahren noch offen | Link: https://ausschreibungsradar.com/ausschreibung/9880628e-2fee-4c86-8d55-3a7510a1bf36/
URL:https://ausschreibungsradar.com/ausschreibung/9880628e-2fee-4c86-8d55-3a7510a1bf36/
END:VEVENT
BEGIN:VEVENT
UID:078296787bd4f11a@ausschreibungsradar.com
DTSTAMP:20260424T101509Z
DTSTART;VALUE=DATE:20250731
DTEND;VALUE=DATE:20250731
SUMMARY:Zuschlag — Neubau Quartierszentrum Alzey | Energieberatung
DESCRIPTION:Phase: Zuschlag | Beschreibung: Vergabeergebnis — Auftrag wurde erteilt oder Verfahren beendet. | Link: https://ausschreibungsradar.com/ausschreibung/a596cfdd-7741-438e-9460-b5c5439a1cf3/
URL:https://ausschreibungsradar.com/ausschreibung/a596cfdd-7741-438e-9460-b5c5439a1cf3/
END:VEVENT
BEGIN:VEVENT
UID:75a59083403af9f5@ausschreibungsradar.com
DTSTAMP:20260424T101509Z
DTSTART;VALUE=DATE:20250731
DTEND;VALUE=DATE:20250731
SUMMARY:Zuschlag — Neubau Quartierszentrum Alzey | Energieberatung
DESCRIPTION:Phase: Zuschlag | Beschreibung: Vergabeergebnis — Auftrag wurde erteilt oder Verfahren beendet. | Link: https://ausschreibungsradar.com/ausschreibung/9bc4f79e-8210-46a3-99f2-06cf78d12cbf/
URL:https://ausschreibungsradar.com/ausschreibung/9bc4f79e-8210-46a3-99f2-06cf78d12cbf/
END:VEVENT
BEGIN:VEVENT
UID:65fba3880c320a6e@ausschreibungsradar.com
DTSTAMP:20260424T101509Z
DTSTART;VALUE=DATE:20250731
DTEND;VALUE=DATE:20250731
SUMMARY:Zuschlag — Neubau Quartierszentrum Alzey | Energieberatung
DESCRIPTION:Phase: Zuschlag | Beschreibung: Vergabeergebnis — Auftrag wurde erteilt oder Verfahren beendet. | Link: https://ausschreibungsradar.com/ausschreibung/ecf83724-1ea1-4ad5-be72-04f2aa015405/
URL:https://ausschreibungsradar.com/ausschreibung/ecf83724-1ea1-4ad5-be72-04f2aa015405/
END:VEVENT
BEGIN:VEVENT
UID:65873e4b21ed2dd7@ausschreibungsradar.com
DTSTAMP:20260424T101509Z
DTSTART;VALUE=DATE:20250731
DTEND;VALUE=DATE:20250731
SUMMARY:Zuschlag — Neubau Quartierszentrum Alzey | Energieberatung
DESCRIPTION:Phase: Zuschlag | Beschreibung: Vergabeergebnis — Auftrag wurde erteilt oder Verfahren beendet. | Link: https://ausschreibungsradar.com/ausschreibung/f1d7fbdb-e3f3-4a58-859e-6b04bfc7f5f2/
URL:https://ausschreibungsradar.com/ausschreibung/f1d7fbdb-e3f3-4a58-859e-6b04bfc7f5f2/
END:VEVENT
END:VCALENDAR
