BEGIN:VCALENDAR
VERSION:2.0
PRODID:-//AusschreibungsRadar//Timeline//DE
CALSCALE:GREGORIAN
METHOD:PUBLISH
X-WR-CALNAME:Projekt Neubau Bürgerzentrum Nordwalde Medientechnik
X-WR-TIMEZONE:Europe/Berlin
BEGIN:VEVENT
UID:97810080ceae4a93@ausschreibungsradar.com
DTSTAMP:20260426T003040Z
DTSTART;VALUE=DATE:20250124
DTEND;VALUE=DATE:20250124
SUMMARY:Angebotsfrist — Neubau Bürgerzentrum Nordwalde Medientechnik
DESCRIPTION:Phase: Ausschreibung | Beschreibung: Angebote werden eingeholt | Link: https://ausschreibungsradar.com/ausschreibung/9937a6cf-4d75-4ce6-b659-a98491a9ccac/
URL:https://ausschreibungsradar.com/ausschreibung/9937a6cf-4d75-4ce6-b659-a98491a9ccac/
END:VEVENT
BEGIN:VEVENT
UID:a5fd6a3c139d0b8c@ausschreibungsradar.com
DTSTAMP:20260426T003040Z
DTSTART;VALUE=DATE:20241203
DTEND;VALUE=DATE:20241203
SUMMARY:Ausschreibung — Neubau Bürgerzentrum Nordwalde Medientechnik
DESCRIPTION:Phase: Ausschreibung | Beschreibung: Offizielle Ausschreibung mit Bieterfrist. | Link: https://ausschreibungsradar.com/ausschreibung/558e378c-d7ce-4c59-a1e9-d916ac96ab7e/
URL:https://ausschreibungsradar.com/ausschreibung/558e378c-d7ce-4c59-a1e9-d916ac96ab7e/
END:VEVENT
END:VCALENDAR
