BEGIN:VCALENDAR
VERSION:2.0
PRODID:-//AusschreibungsRadar//Timeline//DE
CALSCALE:GREGORIAN
METHOD:PUBLISH
X-WR-CALNAME:Projekt Erdgaslieferung 2026, 2027 (optional 2028 und 2029)
X-WR-TIMEZONE:Europe/Berlin
BEGIN:VEVENT
UID:e93e0907fdceb611@ausschreibungsradar.com
DTSTAMP:20260425T215947Z
DTSTART;VALUE=DATE:20250916
DTEND;VALUE=DATE:20250916
SUMMARY:Angebotsfrist — Erdgaslieferung 2026\, 2027 (optional 2028 und 2029)
DESCRIPTION:Phase: Ausschreibung | Beschreibung: Angebote werden eingeholt | Link: https://ausschreibungsradar.com/ausschreibung/99df6d8b-6956-4577-be50-587bdaa3f757/
URL:https://ausschreibungsradar.com/ausschreibung/99df6d8b-6956-4577-be50-587bdaa3f757/
END:VEVENT
BEGIN:VEVENT
UID:fc1224497bf88418@ausschreibungsradar.com
DTSTAMP:20260425T215947Z
DTSTART;VALUE=DATE:20251219
DTEND;VALUE=DATE:20251219
SUMMARY:Vergabeergebnis — Erdgaslieferung 2026\, 2027 (optional 2028 und 2029)
DESCRIPTION:Phase: Vergabeergebnis | Beschreibung: Auftrag wurde zugeschlagen | Link: https://ausschreibungsradar.com/ausschreibung/52310b9f-c2a4-481c-bc6d-228c4bf745f5/
URL:https://ausschreibungsradar.com/ausschreibung/52310b9f-c2a4-481c-bc6d-228c4bf745f5/
END:VEVENT
END:VCALENDAR
