BEGIN:VCALENDAR
VERSION:2.0
PRODID:-//AusschreibungsRadar//Timeline//DE
CALSCALE:GREGORIAN
METHOD:PUBLISH
X-WR-CALNAME:Projekt Vergabe von IT-Unterstützungs- und IT-Consultingleistungen f
X-WR-TIMEZONE:Europe/Berlin
BEGIN:VEVENT
UID:6361fabd8bde1650@ausschreibungsradar.com
DTSTAMP:20260425T181514Z
DTSTART;VALUE=DATE:20251219
DTEND;VALUE=DATE:20251219
SUMMARY:Angebotsfrist — Vergabe von IT-Unterstützungs- und IT-Consultingleistungen f
DESCRIPTION:Phase: Ausschreibung | Beschreibung: Angebote werden eingeholt | Link: https://ausschreibungsradar.com/ausschreibung/9a3aa17c-cf93-4943-a94c-ff4486597ec8/ | Geschätzter Wert: 90145200 €
URL:https://ausschreibungsradar.com/ausschreibung/9a3aa17c-cf93-4943-a94c-ff4486597ec8/
END:VEVENT
BEGIN:VEVENT
UID:1b3363f4deec1eb2@ausschreibungsradar.com
DTSTAMP:20260425T181514Z
DTSTART;VALUE=DATE:20251107
DTEND;VALUE=DATE:20251107
SUMMARY:Ausschreibung — Vergabe von IT-Unterstützungs- und IT-Consultingleistungen f
DESCRIPTION:Phase: Ausschreibung | Beschreibung: Offizielle Ausschreibung mit Bieterfrist. | Link: https://ausschreibungsradar.com/ausschreibung/7cccaa6f-b980-48cd-971a-6cc9d6cdb266/
URL:https://ausschreibungsradar.com/ausschreibung/7cccaa6f-b980-48cd-971a-6cc9d6cdb266/
END:VEVENT
BEGIN:VEVENT
UID:d4607afcddecec3f@ausschreibungsradar.com
DTSTAMP:20260425T181514Z
DTSTART;VALUE=DATE:20251107
DTEND;VALUE=DATE:20251107
SUMMARY:Ausschreibung — Vergabe von IT-Unterstützungs- und IT-Consultingleistungen f
DESCRIPTION:Phase: Ausschreibung | Beschreibung: Offizielle Ausschreibung mit Bieterfrist. | Link: https://ausschreibungsradar.com/ausschreibung/c25c4fc2-2bbc-4248-8596-45b33a02bc40/
URL:https://ausschreibungsradar.com/ausschreibung/c25c4fc2-2bbc-4248-8596-45b33a02bc40/
END:VEVENT
END:VCALENDAR
