BEGIN:VCALENDAR
VERSION:2.0
PRODID:-//AusschreibungsRadar//Timeline//DE
CALSCALE:GREGORIAN
METHOD:PUBLISH
X-WR-CALNAME:Projekt Mutter-Kind-Zentrum Auf der Bult, Hannover - lose Geräte
X-WR-TIMEZONE:Europe/Berlin
BEGIN:VEVENT
UID:724ef92ca28401b8@ausschreibungsradar.com
DTSTAMP:20260426T004923Z
DTSTART;VALUE=DATE:20240220
DTEND;VALUE=DATE:20240220
SUMMARY:Angebotsfrist — Mutter-Kind-Zentrum Auf der Bult\, Hannover - lose Geräte
DESCRIPTION:Phase: Ausschreibung | Beschreibung: Angebote werden eingeholt | Link: https://ausschreibungsradar.com/ausschreibung/8ddaf768-4387-4b4f-9ddd-d0e28b69a3af/ | Geschätzter Wert: 43000 €
URL:https://ausschreibungsradar.com/ausschreibung/8ddaf768-4387-4b4f-9ddd-d0e28b69a3af/
END:VEVENT
BEGIN:VEVENT
UID:0aafa495ed5b9d29@ausschreibungsradar.com
DTSTAMP:20260426T004923Z
DTSTART;VALUE=DATE:20240119
DTEND;VALUE=DATE:20240119
SUMMARY:Ausschreibung — Mutter-Kind-Zentrum Auf der Bult\, Hannover - lose Geräte
DESCRIPTION:Phase: Ausschreibung | Beschreibung: Offizielle Ausschreibung mit Bieterfrist. | Link: https://ausschreibungsradar.com/ausschreibung/d0c83ae7-1a5c-4226-862d-a7b9b3648c49/
URL:https://ausschreibungsradar.com/ausschreibung/d0c83ae7-1a5c-4226-862d-a7b9b3648c49/
END:VEVENT
BEGIN:VEVENT
UID:312a6391b30e3a23@ausschreibungsradar.com
DTSTAMP:20260426T004923Z
DTSTART;VALUE=DATE:20240312
DTEND;VALUE=DATE:20240312
SUMMARY:Zuschlag — Mutter-Kind-Zentrum Auf der Bult\, Hannover - lose Geräte
DESCRIPTION:Phase: Zuschlag | Beschreibung: Vergabeergebnis — Auftrag wurde erteilt oder Verfahren beendet. | Link: https://ausschreibungsradar.com/ausschreibung/19c0b71e-4f5d-4d75-8e04-e4e9a2ebca55/
URL:https://ausschreibungsradar.com/ausschreibung/19c0b71e-4f5d-4d75-8e04-e4e9a2ebca55/
END:VEVENT
BEGIN:VEVENT
UID:3a03925ac171c2ea@ausschreibungsradar.com
DTSTAMP:20260426T004923Z
DTSTART;VALUE=DATE:20240319
DTEND;VALUE=DATE:20240319
SUMMARY:Vergabeergebnis — Mutter-Kind-Zentrum Auf der Bult\, Hannover - lose Geräte
DESCRIPTION:Phase: Vergabeergebnis | Beschreibung: Auftrag wurde zugeschlagen | Link: https://ausschreibungsradar.com/ausschreibung/9a3fed15-afd5-48ee-be59-249f848c7e7b/ | Geschätzter Wert: 43000 €
URL:https://ausschreibungsradar.com/ausschreibung/9a3fed15-afd5-48ee-be59-249f848c7e7b/
END:VEVENT
BEGIN:VEVENT
UID:f2b2319cabf22617@ausschreibungsradar.com
DTSTAMP:20260426T004923Z
DTSTART;VALUE=DATE:20240416
DTEND;VALUE=DATE:20240416
SUMMARY:Ausschreibung — Mutter-Kind-Zentrum Auf der Bult\, Hannover - lose Geräte
DESCRIPTION:Phase: Ausschreibung | Beschreibung: Offizielle Ausschreibung mit Bieterfrist. | Link: https://ausschreibungsradar.com/ausschreibung/bf5c8d08-39d2-4232-8a55-64f06af78985/
URL:https://ausschreibungsradar.com/ausschreibung/bf5c8d08-39d2-4232-8a55-64f06af78985/
END:VEVENT
END:VCALENDAR
