BEGIN:VCALENDAR
VERSION:2.0
PRODID:-//AusschreibungsRadar//Timeline//DE
CALSCALE:GREGORIAN
METHOD:PUBLISH
X-WR-CALNAME:Projekt VgV Brandschutz - Neubau Werkstätten der Ferdinand-von-Stein
X-WR-TIMEZONE:Europe/Berlin
BEGIN:VEVENT
UID:d3cc0715f3cc5e35@ausschreibungsradar.com
DTSTAMP:20260425T124706Z
DTSTART;VALUE=DATE:20250301
DTEND;VALUE=DATE:20250301
SUMMARY:Ausschreibung — VgV Brandschutz - Neubau Werkstätten der Ferdinand-von-Stein
DESCRIPTION:Phase: Ausschreibung | Beschreibung: Angebote werden eingeholt | Link: https://ausschreibungsradar.com/ausschreibung/9ac3cce6-afda-44ab-9f9f-ab0042b0b4dd/
URL:https://ausschreibungsradar.com/ausschreibung/9ac3cce6-afda-44ab-9f9f-ab0042b0b4dd/
END:VEVENT
BEGIN:VEVENT
UID:b467eaaa92debc68@ausschreibungsradar.com
DTSTAMP:20260425T124706Z
DTSTART;VALUE=DATE:20250301
DTEND;VALUE=DATE:20250301
SUMMARY:Ausschreibung — VgV Brandschutz - Neubau Werkstätten der Ferdinand-von-Stein
DESCRIPTION:Phase: Ausschreibung | Beschreibung: Offizielle Ausschreibung mit Bieterfrist. | Link: https://ausschreibungsradar.com/ausschreibung/70b3fa4d-1b96-423a-8435-f8485b057716/
URL:https://ausschreibungsradar.com/ausschreibung/70b3fa4d-1b96-423a-8435-f8485b057716/
END:VEVENT
BEGIN:VEVENT
UID:fa37c7a577f490cb@ausschreibungsradar.com
DTSTAMP:20260425T124706Z
DTSTART;VALUE=DATE:20260311
DTEND;VALUE=DATE:20260311
SUMMARY:Zuschlag — VgV Brandschutz - Neubau Werkstätten der Ferdinand-von-Stein
DESCRIPTION:Phase: Zuschlag | Beschreibung: Vergabeergebnis — Auftrag wurde erteilt oder Verfahren beendet. | Link: https://ausschreibungsradar.com/ausschreibung/87e6031a-7917-4390-877b-c4149289e377/
URL:https://ausschreibungsradar.com/ausschreibung/87e6031a-7917-4390-877b-c4149289e377/
END:VEVENT
BEGIN:VEVENT
UID:c8597e71c28c8262@ausschreibungsradar.com
DTSTAMP:20260425T124706Z
DTSTART;VALUE=DATE:20260311
DTEND;VALUE=DATE:20260311
SUMMARY:Zuschlag — VgV Brandschutz - Neubau Werkstätten der Ferdinand-von-Stein
DESCRIPTION:Phase: Zuschlag | Beschreibung: Vergabeergebnis — Auftrag wurde erteilt oder Verfahren beendet. | Link: https://ausschreibungsradar.com/ausschreibung/ea4e0300-939f-49d2-baa8-548f07d90f5d/
URL:https://ausschreibungsradar.com/ausschreibung/ea4e0300-939f-49d2-baa8-548f07d90f5d/
END:VEVENT
BEGIN:VEVENT
UID:c74090dcaf7b3ddb@ausschreibungsradar.com
DTSTAMP:20260425T124706Z
DTSTART;VALUE=DATE:20260313
DTEND;VALUE=DATE:20260313
SUMMARY:Vergabeergebnis — VgV Brandschutz - Neubau Werkstätten der Ferdinand-von-Stein
DESCRIPTION:Phase: Vergabeergebnis | Beschreibung: Auftrag wurde zugeschlagen | Link: https://ausschreibungsradar.com/ausschreibung/39f8f76e-dfac-45a3-bd56-8b8693541221/
URL:https://ausschreibungsradar.com/ausschreibung/39f8f76e-dfac-45a3-bd56-8b8693541221/
END:VEVENT
BEGIN:VEVENT
UID:36898ecbfa62c881@ausschreibungsradar.com
DTSTAMP:20260425T124706Z
DTSTART;VALUE=DATE:20260313
DTEND;VALUE=DATE:20260313
SUMMARY:Zuschlag — VgV Brandschutz - Neubau Werkstätten der Ferdinand-von-Stein
DESCRIPTION:Phase: Zuschlag | Beschreibung: Vergabeergebnis — Auftrag wurde erteilt oder Verfahren beendet. | Link: https://ausschreibungsradar.com/ausschreibung/cd3eb20f-239b-4b9c-bf48-4b4d47f1a85b/
URL:https://ausschreibungsradar.com/ausschreibung/cd3eb20f-239b-4b9c-bf48-4b4d47f1a85b/
END:VEVENT
END:VCALENDAR
