BEGIN:VCALENDAR
VERSION:2.0
PRODID:-//AusschreibungsRadar//Timeline//DE
CALSCALE:GREGORIAN
METHOD:PUBLISH
X-WR-CALNAME:Projekt Rahmenvereinbarung für Fachplanungsleistungen (TA - ELT) zur
X-WR-TIMEZONE:Europe/Berlin
BEGIN:VEVENT
UID:cc7e6641792ed4f3@ausschreibungsradar.com
DTSTAMP:20260423T232614Z
DTSTART;VALUE=DATE:20240624
DTEND;VALUE=DATE:20240624
SUMMARY:Ausschreibung — Rahmenvereinbarung für Fachplanungsleistungen (TA - ELT) zur
DESCRIPTION:Phase: Ausschreibung | Beschreibung: Angebote werden eingeholt | Link: https://ausschreibungsradar.com/ausschreibung/9b7a5fec-7d9a-4fc3-b602-e199b146e34f/
URL:https://ausschreibungsradar.com/ausschreibung/9b7a5fec-7d9a-4fc3-b602-e199b146e34f/
END:VEVENT
BEGIN:VEVENT
UID:39270c24fc8b13a6@ausschreibungsradar.com
DTSTAMP:20260423T232614Z
DTSTART;VALUE=DATE:20240624
DTEND;VALUE=DATE:20240624
SUMMARY:Ausschreibung — Rahmenvereinbarung für Fachplanungsleistungen (TA - ELT) zur
DESCRIPTION:Phase: Ausschreibung | Beschreibung: Offizielle Ausschreibung mit Bieterfrist. | Link: https://ausschreibungsradar.com/ausschreibung/45b524bb-25a9-4700-a6df-769ee122d3fa/
URL:https://ausschreibungsradar.com/ausschreibung/45b524bb-25a9-4700-a6df-769ee122d3fa/
END:VEVENT
BEGIN:VEVENT
UID:5ac793d88e3ee50c@ausschreibungsradar.com
DTSTAMP:20260423T232614Z
DTSTART;VALUE=DATE:20240624
DTEND;VALUE=DATE:20240624
SUMMARY:Ausschreibung — Rahmenvereinbarung für Fachplanungsleistungen (TA - ELT) zur
DESCRIPTION:Phase: Ausschreibung | Beschreibung: Offizielle Ausschreibung mit Bieterfrist. | Link: https://ausschreibungsradar.com/ausschreibung/7d53d049-6dea-4435-865c-2d277d24645a/
URL:https://ausschreibungsradar.com/ausschreibung/7d53d049-6dea-4435-865c-2d277d24645a/
END:VEVENT
BEGIN:VEVENT
UID:b97f98a03f3bee86@ausschreibungsradar.com
DTSTAMP:20260423T232614Z
DTSTART;VALUE=DATE:20240624
DTEND;VALUE=DATE:20240624
SUMMARY:Ausschreibung — Rahmenvereinbarung für Fachplanungsleistungen (TA - ELT) zur
DESCRIPTION:Phase: Ausschreibung | Beschreibung: Offizielle Ausschreibung mit Bieterfrist. | Link: https://ausschreibungsradar.com/ausschreibung/dbed5a12-55ca-485d-8670-63a82b8746b4/
URL:https://ausschreibungsradar.com/ausschreibung/dbed5a12-55ca-485d-8670-63a82b8746b4/
END:VEVENT
BEGIN:VEVENT
UID:c0f8cad34af3c909@ausschreibungsradar.com
DTSTAMP:20260423T232614Z
DTSTART;VALUE=DATE:20241107
DTEND;VALUE=DATE:20241107
SUMMARY:Vergabeergebnis — Rahmenvereinbarung für Fachplanungsleistungen (TA - ELT) zur
DESCRIPTION:Phase: Vergabeergebnis | Beschreibung: Auftrag wurde zugeschlagen | Link: https://ausschreibungsradar.com/ausschreibung/81dbad64-62e2-4158-b4b3-ae1f03302837/
URL:https://ausschreibungsradar.com/ausschreibung/81dbad64-62e2-4158-b4b3-ae1f03302837/
END:VEVENT
END:VCALENDAR
