BEGIN:VCALENDAR
VERSION:2.0
PRODID:-//AusschreibungsRadar//Timeline//DE
CALSCALE:GREGORIAN
METHOD:PUBLISH
X-WR-CALNAME:Projekt Beschaffung von Vmware-Lizenzen
X-WR-TIMEZONE:Europe/Berlin
BEGIN:VEVENT
UID:319ba4037b2c1252@ausschreibungsradar.com
DTSTAMP:20260425T202357Z
DTSTART;VALUE=DATE:20260325
DTEND;VALUE=DATE:20260325
SUMMARY:Angebotsfrist — Beschaffung von Vmware-Lizenzen
DESCRIPTION:Phase: Ausschreibung | Beschreibung: Angebote werden eingeholt | Link: https://ausschreibungsradar.com/ausschreibung/9bf6c769-ac9d-4edb-9f5f-922d6359c845/
URL:https://ausschreibungsradar.com/ausschreibung/9bf6c769-ac9d-4edb-9f5f-922d6359c845/
END:VEVENT
BEGIN:VEVENT
UID:8f5624ea565dcf3e@ausschreibungsradar.com
DTSTAMP:20260425T202357Z
DTSTART;VALUE=DATE:20260206
DTEND;VALUE=DATE:20260206
SUMMARY:Ausschreibung — Beschaffung von Vmware-Lizenzen
DESCRIPTION:Phase: Ausschreibung | Beschreibung: Offizielle Ausschreibung mit Bieterfrist. | Link: https://ausschreibungsradar.com/ausschreibung/ed2bad46-538b-4faf-8d0e-8a789cc32238/
URL:https://ausschreibungsradar.com/ausschreibung/ed2bad46-538b-4faf-8d0e-8a789cc32238/
END:VEVENT
BEGIN:VEVENT
UID:abaa029b099dff03@ausschreibungsradar.com
DTSTAMP:20260425T202357Z
DTSTART;VALUE=DATE:20260206
DTEND;VALUE=DATE:20260206
SUMMARY:Ausschreibung — Beschaffung von Vmware-Lizenzen
DESCRIPTION:Phase: Ausschreibung | Beschreibung: Offizielle Ausschreibung mit Bieterfrist. | Link: https://ausschreibungsradar.com/ausschreibung/ee9cbde7-ca8f-45d8-a624-071ce2017343/
URL:https://ausschreibungsradar.com/ausschreibung/ee9cbde7-ca8f-45d8-a624-071ce2017343/
END:VEVENT
BEGIN:VEVENT
UID:c3e10912c4e7b715@ausschreibungsradar.com
DTSTAMP:20260425T202357Z
DTSTART;VALUE=DATE:20260206
DTEND;VALUE=DATE:20260206
SUMMARY:Ausschreibung — Beschaffung von Vmware-Lizenzen
DESCRIPTION:Phase: Ausschreibung | Beschreibung: Offizielle Ausschreibung mit Bieterfrist. | Link: https://ausschreibungsradar.com/ausschreibung/e534dc33-1d24-4ce2-b609-3c010941c0c6/
URL:https://ausschreibungsradar.com/ausschreibung/e534dc33-1d24-4ce2-b609-3c010941c0c6/
END:VEVENT
BEGIN:VEVENT
UID:c04c5f1c689b811d@ausschreibungsradar.com
DTSTAMP:20260425T202357Z
DTSTART;VALUE=DATE:20260206
DTEND;VALUE=DATE:20260206
SUMMARY:Ausschreibung — Beschaffung von Vmware-Lizenzen
DESCRIPTION:Phase: Ausschreibung | Beschreibung: Offizielle Ausschreibung mit Bieterfrist. | Link: https://ausschreibungsradar.com/ausschreibung/4177242e-6a5d-4c4a-a2ba-37a0713c1290/
URL:https://ausschreibungsradar.com/ausschreibung/4177242e-6a5d-4c4a-a2ba-37a0713c1290/
END:VEVENT
END:VCALENDAR
