BEGIN:VCALENDAR
VERSION:2.0
PRODID:-//AusschreibungsRadar//Timeline//DE
CALSCALE:GREGORIAN
METHOD:PUBLISH
X-WR-CALNAME:Projekt Neubau Lebenshilfeschule mit Tagesstätte Landau a.d.Isar; Lü
X-WR-TIMEZONE:Europe/Berlin
BEGIN:VEVENT
UID:582b6d446cf748e1@ausschreibungsradar.com
DTSTAMP:20260425T000435Z
DTSTART;VALUE=DATE:20240605
DTEND;VALUE=DATE:20240605
SUMMARY:Angebotsfrist — Neubau Lebenshilfeschule mit Tagesstätte Landau a.d.Isar\; Lü
DESCRIPTION:Phase: Ausschreibung | Beschreibung: Angebote werden eingeholt | Link: https://ausschreibungsradar.com/ausschreibung/62b02317-4e3f-4cb4-876e-082811ed9f46/
URL:https://ausschreibungsradar.com/ausschreibung/62b02317-4e3f-4cb4-876e-082811ed9f46/
END:VEVENT
BEGIN:VEVENT
UID:05d3aa648e9c1bf2@ausschreibungsradar.com
DTSTAMP:20260425T000435Z
DTSTART;VALUE=DATE:20240708
DTEND;VALUE=DATE:20240708
SUMMARY:Ausschreibung — Neubau Lebenshilfeschule mit Tagesstätte Landau a.d.Isar\; Lü
DESCRIPTION:Phase: Ausschreibung | Beschreibung: Offizielle Ausschreibung mit Bieterfrist. | Link: https://ausschreibungsradar.com/ausschreibung/b6210a7e-4cd9-4a50-a31c-35d113676dbe/
URL:https://ausschreibungsradar.com/ausschreibung/b6210a7e-4cd9-4a50-a31c-35d113676dbe/
END:VEVENT
BEGIN:VEVENT
UID:77ee8ac00452a8a6@ausschreibungsradar.com
DTSTAMP:20260425T000435Z
DTSTART;VALUE=DATE:20240725
DTEND;VALUE=DATE:20240725
SUMMARY:Vergabeergebnis — Neubau Lebenshilfeschule mit Tagesstätte Landau a.d.Isar\; Lü
DESCRIPTION:Phase: Vergabeergebnis | Beschreibung: Auftrag wurde zugeschlagen | Link: https://ausschreibungsradar.com/ausschreibung/9c04d4d4-40e0-4a7d-bf53-ccc987feddad/ | Auftragnehmer: Gebäudetechnik Stocker Gm
URL:https://ausschreibungsradar.com/ausschreibung/9c04d4d4-40e0-4a7d-bf53-ccc987feddad/
END:VEVENT
BEGIN:VEVENT
UID:ef9027f4b03cf19f@ausschreibungsradar.com
DTSTAMP:20260425T000435Z
DTSTART;VALUE=DATE:20240730
DTEND;VALUE=DATE:20240730
SUMMARY:Zuschlag — Neubau Lebenshilfeschule mit Tagesstätte Landau a.d.Isar\; Lü
DESCRIPTION:Phase: Zuschlag | Beschreibung: Vergabeergebnis — Auftrag wurde erteilt oder Verfahren beendet. | Link: https://ausschreibungsradar.com/ausschreibung/0f62aacd-6166-4461-a42b-3f1db14a9241/
URL:https://ausschreibungsradar.com/ausschreibung/0f62aacd-6166-4461-a42b-3f1db14a9241/
END:VEVENT
END:VCALENDAR
