BEGIN:VCALENDAR
VERSION:2.0
PRODID:-//AusschreibungsRadar//Timeline//DE
CALSCALE:GREGORIAN
METHOD:PUBLISH
X-WR-CALNAME:Projekt Anbau und Sanierung Sachsenhalle - Wärmeversorgungsanlagen D
X-WR-TIMEZONE:Europe/Berlin
BEGIN:VEVENT
UID:04c9c4061a01abcf@ausschreibungsradar.com
DTSTAMP:20260425T021046Z
DTSTART;VALUE=DATE:20251030
DTEND;VALUE=DATE:20251030
SUMMARY:Angebotsfrist — Anbau und Sanierung Sachsenhalle - Wärmeversorgungsanlagen D
DESCRIPTION:Phase: Ausschreibung | Beschreibung: Angebote werden eingeholt | Link: https://ausschreibungsradar.com/ausschreibung/0fae6756-0c17-4fe6-b004-ae98e807b9fa/
URL:https://ausschreibungsradar.com/ausschreibung/0fae6756-0c17-4fe6-b004-ae98e807b9fa/
END:VEVENT
BEGIN:VEVENT
UID:b7950386b83e4d2c@ausschreibungsradar.com
DTSTAMP:20260425T021046Z
DTSTART;VALUE=DATE:20260116
DTEND;VALUE=DATE:20260116
SUMMARY:Zuschlag — Anbau und Sanierung Sachsenhalle - Wärmeversorgungsanlagen D
DESCRIPTION:Phase: Zuschlag | Beschreibung: Vergabeergebnis — Auftrag wurde erteilt oder Verfahren beendet. | Link: https://ausschreibungsradar.com/ausschreibung/ccb5c5d7-c555-44a0-a737-e8b6f5edc33c/
URL:https://ausschreibungsradar.com/ausschreibung/ccb5c5d7-c555-44a0-a737-e8b6f5edc33c/
END:VEVENT
BEGIN:VEVENT
UID:d94a244f42b56f66@ausschreibungsradar.com
DTSTAMP:20260425T021046Z
DTSTART;VALUE=DATE:20260121
DTEND;VALUE=DATE:20260121
SUMMARY:Vergabeergebnis — Anbau und Sanierung Sachsenhalle - Wärmeversorgungsanlagen D
DESCRIPTION:Phase: Vergabeergebnis | Beschreibung: Auftrag wurde zugeschlagen | Link: https://ausschreibungsradar.com/ausschreibung/9c61f4e7-a8a1-4b84-a657-87455a383a0d/
URL:https://ausschreibungsradar.com/ausschreibung/9c61f4e7-a8a1-4b84-a657-87455a383a0d/
END:VEVENT
END:VCALENDAR
