BEGIN:VCALENDAR
VERSION:2.0
PRODID:-//AusschreibungsRadar//Timeline//DE
CALSCALE:GREGORIAN
METHOD:PUBLISH
X-WR-CALNAME:Projekt Neubau einer 3-fach-Sporthalle am Gymnasium Georgianum Vrede
X-WR-TIMEZONE:Europe/Berlin
BEGIN:VEVENT
UID:477f975f1f1a9a7c@ausschreibungsradar.com
DTSTAMP:20260425T202334Z
DTSTART;VALUE=DATE:20250623
DTEND;VALUE=DATE:20250623
SUMMARY:Angebotsfrist — Neubau einer 3-fach-Sporthalle am Gymnasium Georgianum Vrede
DESCRIPTION:Phase: Ausschreibung | Beschreibung: Angebote werden eingeholt | Link: https://ausschreibungsradar.com/ausschreibung/9cbd08cf-125d-438b-a8de-a65cb9f0c129/
URL:https://ausschreibungsradar.com/ausschreibung/9cbd08cf-125d-438b-a8de-a65cb9f0c129/
END:VEVENT
BEGIN:VEVENT
UID:0ec3624fa2f56d43@ausschreibungsradar.com
DTSTAMP:20260425T202334Z
DTSTART;VALUE=DATE:20250519
DTEND;VALUE=DATE:20250519
SUMMARY:Zuschlag — Neubau einer 3-fach-Sporthalle am Gymnasium Georgianum Vrede
DESCRIPTION:Phase: Zuschlag | Beschreibung: Vergabeergebnis — Auftrag wurde erteilt oder Verfahren beendet. | Link: https://ausschreibungsradar.com/ausschreibung/b03c412a-ffcc-4cc9-be2a-a8696ec6c929/
URL:https://ausschreibungsradar.com/ausschreibung/b03c412a-ffcc-4cc9-be2a-a8696ec6c929/
END:VEVENT
BEGIN:VEVENT
UID:86ce9c74b8f53e13@ausschreibungsradar.com
DTSTAMP:20260425T202334Z
DTSTART;VALUE=DATE:20250521
DTEND;VALUE=DATE:20250521
SUMMARY:Ausschreibung — Neubau einer 3-fach-Sporthalle am Gymnasium Georgianum Vrede
DESCRIPTION:Phase: Ausschreibung | Beschreibung: Offizielle Ausschreibung mit Bieterfrist. | Link: https://ausschreibungsradar.com/ausschreibung/bad84393-f3c2-4f83-b390-d134a3998859/
URL:https://ausschreibungsradar.com/ausschreibung/bad84393-f3c2-4f83-b390-d134a3998859/
END:VEVENT
BEGIN:VEVENT
UID:e0668cabd377c93d@ausschreibungsradar.com
DTSTAMP:20260425T202334Z
DTSTART;VALUE=DATE:20250818
DTEND;VALUE=DATE:20250818
SUMMARY:Vergabeergebnis — Neubau einer 3-fach-Sporthalle am Gymnasium Georgianum Vrede
DESCRIPTION:Phase: Vergabeergebnis | Beschreibung: Auftrag wurde zugeschlagen | Link: https://ausschreibungsradar.com/ausschreibung/d97cf0fc-c45d-4e41-b775-952c9f817d9a/
URL:https://ausschreibungsradar.com/ausschreibung/d97cf0fc-c45d-4e41-b775-952c9f817d9a/
END:VEVENT
END:VCALENDAR
