BEGIN:VCALENDAR
VERSION:2.0
PRODID:-//AusschreibungsRadar//Timeline//DE
CALSCALE:GREGORIAN
METHOD:PUBLISH
X-WR-CALNAME:Projekt Integriertes Stadtentwicklungskonzept (ISEK) Innenstadt Hamm
X-WR-TIMEZONE:Europe/Berlin
BEGIN:VEVENT
UID:b914a606e76f41ec@ausschreibungsradar.com
DTSTAMP:20260424T113251Z
DTSTART;VALUE=DATE:20250731
DTEND;VALUE=DATE:20250731
SUMMARY:Angebotsfrist — Integriertes Stadtentwicklungskonzept (ISEK) Innenstadt Hamm
DESCRIPTION:Phase: Ausschreibung | Beschreibung: Angebote werden eingeholt | Link: https://ausschreibungsradar.com/ausschreibung/afc793f6-adc6-4f68-b992-ac655c2e7d3b/
URL:https://ausschreibungsradar.com/ausschreibung/afc793f6-adc6-4f68-b992-ac655c2e7d3b/
END:VEVENT
BEGIN:VEVENT
UID:2f39d3337cc140aa@ausschreibungsradar.com
DTSTAMP:20260424T113251Z
DTSTART;VALUE=DATE:20251014
DTEND;VALUE=DATE:20251014
SUMMARY:Vergabeergebnis — Integriertes Stadtentwicklungskonzept (ISEK) Innenstadt Hamm
DESCRIPTION:Phase: Vergabeergebnis | Beschreibung: Auftrag wurde zugeschlagen | Link: https://ausschreibungsradar.com/ausschreibung/9d12affe-92c3-4bbe-981c-202c39a673d9/
URL:https://ausschreibungsradar.com/ausschreibung/9d12affe-92c3-4bbe-981c-202c39a673d9/
END:VEVENT
END:VCALENDAR
