BEGIN:VCALENDAR
VERSION:2.0
PRODID:-//AusschreibungsRadar//Timeline//DE
CALSCALE:GREGORIAN
METHOD:PUBLISH
X-WR-CALNAME:Projekt Löschgruppenfahrzeug LF 10
X-WR-TIMEZONE:Europe/Berlin
BEGIN:VEVENT
UID:4ecb4f1cc988456c@ausschreibungsradar.com
DTSTAMP:20260425T225257Z
DTSTART;VALUE=DATE:20240820
DTEND;VALUE=DATE:20240820
SUMMARY:Zuschlag — Löschgruppenfahrzeug LF 10
DESCRIPTION:Phase: Zuschlag | Beschreibung: Vergabeergebnis — Auftrag wurde erteilt oder Verfahren beendet. | Link: https://ausschreibungsradar.com/ausschreibung/9d8a32ed-b7ef-4bde-b73f-e8e10889e57e/
URL:https://ausschreibungsradar.com/ausschreibung/9d8a32ed-b7ef-4bde-b73f-e8e10889e57e/
END:VEVENT
BEGIN:VEVENT
UID:e1dc259474b41b64@ausschreibungsradar.com
DTSTAMP:20260425T225257Z
DTSTART;VALUE=DATE:20240822
DTEND;VALUE=DATE:20240822
SUMMARY:Zuschlag — Löschgruppenfahrzeug LF 10
DESCRIPTION:Phase: Zuschlag | Beschreibung: Vergabeergebnis — Auftrag wurde erteilt oder Verfahren beendet. | Link: https://ausschreibungsradar.com/ausschreibung/ted-505452-2024/
URL:https://ausschreibungsradar.com/ausschreibung/ted-505452-2024/
END:VEVENT
END:VCALENDAR
