BEGIN:VCALENDAR
VERSION:2.0
PRODID:-//AusschreibungsRadar//Timeline//DE
CALSCALE:GREGORIAN
METHOD:PUBLISH
X-WR-CALNAME:Projekt Gewerbliche Bewachung Munitionslager Lorup - 6002582604-BwDL
X-WR-TIMEZONE:Europe/Berlin
BEGIN:VEVENT
UID:1003299d0a549b81@ausschreibungsradar.com
DTSTAMP:20260424T135441Z
DTSTART;VALUE=DATE:20231218
DTEND;VALUE=DATE:20231218
SUMMARY:Ausschreibung — Gewerbliche Bewachung Munitionslager Lorup - 6002582604-BwDL
DESCRIPTION:Phase: Ausschreibung | Beschreibung: Angebote werden eingeholt | Link: https://ausschreibungsradar.com/ausschreibung/9db149b5-5f96-4cb7-ab84-955a239d3d0b/ | Geschätzter Wert: 6400000 €
URL:https://ausschreibungsradar.com/ausschreibung/9db149b5-5f96-4cb7-ab84-955a239d3d0b/
END:VEVENT
BEGIN:VEVENT
UID:409b4a60a0fa49ea@ausschreibungsradar.com
DTSTAMP:20260424T135441Z
DTSTART;VALUE=DATE:20231218
DTEND;VALUE=DATE:20231218
SUMMARY:Ausschreibung — Gewerbliche Bewachung Munitionslager Lorup - 6002582604-BwDL
DESCRIPTION:Phase: Ausschreibung | Beschreibung: Offizielle Ausschreibung mit Bieterfrist. | Link: https://ausschreibungsradar.com/ausschreibung/150f4671-0319-4746-9a39-986109af6495/
URL:https://ausschreibungsradar.com/ausschreibung/150f4671-0319-4746-9a39-986109af6495/
END:VEVENT
BEGIN:VEVENT
UID:a4bcdb015022ef38@ausschreibungsradar.com
DTSTAMP:20260424T135441Z
DTSTART;VALUE=DATE:20260213
DTEND;VALUE=DATE:20260213
SUMMARY:Vergabeergebnis — Gewerbliche Bewachung Munitionslager Lorup - 6002582604-BwDL
DESCRIPTION:Phase: Vergabeergebnis | Beschreibung: Auftrag wurde zugeschlagen | Link: https://ausschreibungsradar.com/ausschreibung/3a7c234c-332d-4da6-8cd8-dedb0213a235/
URL:https://ausschreibungsradar.com/ausschreibung/3a7c234c-332d-4da6-8cd8-dedb0213a235/
END:VEVENT
END:VCALENDAR
