BEGIN:VCALENDAR
VERSION:2.0
PRODID:-//AusschreibungsRadar//Timeline//DE
CALSCALE:GREGORIAN
METHOD:PUBLISH
X-WR-CALNAME:Projekt Lieferung von Aluminium-Sonderprofile 2025 (Teil 2)
X-WR-TIMEZONE:Europe/Berlin
BEGIN:VEVENT
UID:b95f4dd727943ea3@ausschreibungsradar.com
DTSTAMP:20260424T120437Z
DTSTART;VALUE=DATE:20250425
DTEND;VALUE=DATE:20250425
SUMMARY:Ausschreibung — Lieferung von Aluminium-Sonderprofile 2025 (Teil 2)
DESCRIPTION:Phase: Ausschreibung | Beschreibung: Angebote werden eingeholt | Link: https://ausschreibungsradar.com/ausschreibung/4670c949-fe7a-47d8-95a3-1abd16b32e47/
URL:https://ausschreibungsradar.com/ausschreibung/4670c949-fe7a-47d8-95a3-1abd16b32e47/
END:VEVENT
BEGIN:VEVENT
UID:b4f5a918553dd8f3@ausschreibungsradar.com
DTSTAMP:20260424T120437Z
DTSTART;VALUE=DATE:20250723
DTEND;VALUE=DATE:20250723
SUMMARY:Vergabeergebnis — Lieferung von Aluminium-Sonderprofile 2025 (Teil 2)
DESCRIPTION:Phase: Vergabeergebnis | Beschreibung: Auftrag wurde zugeschlagen | Link: https://ausschreibungsradar.com/ausschreibung/9dc862d3-00d5-4cef-992c-a59e2d1c2cf9/
URL:https://ausschreibungsradar.com/ausschreibung/9dc862d3-00d5-4cef-992c-a59e2d1c2cf9/
END:VEVENT
END:VCALENDAR
