BEGIN:VCALENDAR
VERSION:2.0
PRODID:-//AusschreibungsRadar//Timeline//DE
CALSCALE:GREGORIAN
METHOD:PUBLISH
X-WR-CALNAME:Projekt Baugrundbeurteilung und Gründungsberatung im PfA 7.1 KaBa
X-WR-TIMEZONE:Europe/Berlin
BEGIN:VEVENT
UID:8233f77e8cd88d73@ausschreibungsradar.com
DTSTAMP:20260425T232353Z
DTSTART;VALUE=DATE:20250908
DTEND;VALUE=DATE:20250908
SUMMARY:Vertragsmodifikation — Baugrundbeurteilung und Gründungsberatung im PfA 7.1 KaBa
DESCRIPTION:Phase: Vertragsmodifikation | Beschreibung: Änderung am bestehenden Vertrag nach Zuschlag. | Link: https://ausschreibungsradar.com/ausschreibung/7790ed10-ed7e-4d01-8b64-e76c6f558349/
URL:https://ausschreibungsradar.com/ausschreibung/7790ed10-ed7e-4d01-8b64-e76c6f558349/
END:VEVENT
BEGIN:VEVENT
UID:7c4b9b6a5a80ca03@ausschreibungsradar.com
DTSTAMP:20260425T232353Z
DTSTART;VALUE=DATE:20251124
DTEND;VALUE=DATE:20251124
SUMMARY:Vertragsmodifikation — Baugrundbeurteilung und Gründungsberatung im PfA 7.1 KaBa
DESCRIPTION:Phase: Vertragsmodifikation | Beschreibung: Änderung am bestehenden Vertrag nach Zuschlag. | Link: https://ausschreibungsradar.com/ausschreibung/ae230d1e-03de-4f15-b1a3-e6cc8b8d1c10/
URL:https://ausschreibungsradar.com/ausschreibung/ae230d1e-03de-4f15-b1a3-e6cc8b8d1c10/
END:VEVENT
BEGIN:VEVENT
UID:b8082d402d9606ea@ausschreibungsradar.com
DTSTAMP:20260425T232353Z
DTSTART;VALUE=DATE:20251125
DTEND;VALUE=DATE:20251125
SUMMARY:Vertragsmodifikation — Baugrundbeurteilung und Gründungsberatung im PfA 7.1 KaBa
DESCRIPTION:Phase: Vertragsmodifikation | Beschreibung: Änderung am bestehenden Vertrag nach Zuschlag. | Link: https://ausschreibungsradar.com/ausschreibung/f7634c91-771d-4313-8162-175f196e6680/
URL:https://ausschreibungsradar.com/ausschreibung/f7634c91-771d-4313-8162-175f196e6680/
END:VEVENT
BEGIN:VEVENT
UID:5e43d555afcc3920@ausschreibungsradar.com
DTSTAMP:20260425T232353Z
DTSTART;VALUE=DATE:20260107
DTEND;VALUE=DATE:20260107
SUMMARY:Vertragsmodifikation — Baugrundbeurteilung und Gründungsberatung im PfA 7.1 KaBa
DESCRIPTION:Phase: Vertragsmodifikation | Beschreibung: Änderung am bestehenden Vertrag nach Zuschlag. | Link: https://ausschreibungsradar.com/ausschreibung/f7f2f990-db17-47b2-bbad-6fe7c456da1c/
URL:https://ausschreibungsradar.com/ausschreibung/f7f2f990-db17-47b2-bbad-6fe7c456da1c/
END:VEVENT
BEGIN:VEVENT
UID:9a8bae2f3801ca1b@ausschreibungsradar.com
DTSTAMP:20260425T232353Z
DTSTART;VALUE=DATE:20260116
DTEND;VALUE=DATE:20260116
SUMMARY:Vertragsänderung — Baugrundbeurteilung und Gründungsberatung im PfA 7.1 KaBa
DESCRIPTION:Phase: Vertragsänderung | Beschreibung: Modifikation aufgrund unvorhersehbarer Umstände | Link: https://ausschreibungsradar.com/ausschreibung/9df78056-37dc-4fa3-b914-0d6bdc90534b/
URL:https://ausschreibungsradar.com/ausschreibung/9df78056-37dc-4fa3-b914-0d6bdc90534b/
END:VEVENT
BEGIN:VEVENT
UID:619494615927c3dc@ausschreibungsradar.com
DTSTAMP:20260425T232353Z
DTSTART;VALUE=DATE:20260116
DTEND;VALUE=DATE:20260116
SUMMARY:Vertragsmodifikation — Baugrundbeurteilung und Gründungsberatung im PfA 7.1 KaBa
DESCRIPTION:Phase: Vertragsmodifikation | Beschreibung: Änderung am bestehenden Vertrag nach Zuschlag. | Link: https://ausschreibungsradar.com/ausschreibung/b08a8093-5d60-4055-8af2-218ef506408d/
URL:https://ausschreibungsradar.com/ausschreibung/b08a8093-5d60-4055-8af2-218ef506408d/
END:VEVENT
END:VCALENDAR
