BEGIN:VCALENDAR
VERSION:2.0
PRODID:-//AusschreibungsRadar//Timeline//DE
CALSCALE:GREGORIAN
METHOD:PUBLISH
X-WR-CALNAME:Projekt Technische Gebäudeausrüstung Ex-Post
X-WR-TIMEZONE:Europe/Berlin
BEGIN:VEVENT
UID:6c07070f86666036@ausschreibungsradar.com
DTSTAMP:20260424T152207Z
DTSTART;VALUE=DATE:20240424
DTEND;VALUE=DATE:20240424
SUMMARY:Angebotsfrist — Technische Gebäudeausrüstung Ex-Post
DESCRIPTION:Phase: Ausschreibung | Beschreibung: Angebote werden eingeholt | Link: https://ausschreibungsradar.com/ausschreibung/fe67d62d-4ff8-4120-a663-98cb09bbc281/
URL:https://ausschreibungsradar.com/ausschreibung/fe67d62d-4ff8-4120-a663-98cb09bbc281/
END:VEVENT
BEGIN:VEVENT
UID:36807a1286c04998@ausschreibungsradar.com
DTSTAMP:20260424T152207Z
DTSTART;VALUE=DATE:20240614
DTEND;VALUE=DATE:20240614
SUMMARY:Vergabeergebnis — Technische Gebäudeausrüstung Ex-Post
DESCRIPTION:Phase: Vergabeergebnis | Beschreibung: Auftrag wurde zugeschlagen | Link: https://ausschreibungsradar.com/ausschreibung/a05c43ec-c438-4739-8d1d-26bf4b40e232/
URL:https://ausschreibungsradar.com/ausschreibung/a05c43ec-c438-4739-8d1d-26bf4b40e232/
END:VEVENT
END:VCALENDAR
