BEGIN:VCALENDAR
VERSION:2.0
PRODID:-//AusschreibungsRadar//Timeline//DE
CALSCALE:GREGORIAN
METHOD:PUBLISH
X-WR-CALNAME:Projekt TUM GAR School of Natural Sciences Gebäude 5117 Laborausstat
X-WR-TIMEZONE:Europe/Berlin
BEGIN:VEVENT
UID:31c2fba53800dcc8@ausschreibungsradar.com
DTSTAMP:20260424T015559Z
DTSTART;VALUE=DATE:20251002
DTEND;VALUE=DATE:20251002
SUMMARY:Angebotsfrist — TUM GAR School of Natural Sciences Gebäude 5117 Laborausstat
DESCRIPTION:Phase: Ausschreibung | Beschreibung: Angebote werden eingeholt | Link: https://ausschreibungsradar.com/ausschreibung/a13cebc6-8826-482c-99af-fe2efbf3a49b/
URL:https://ausschreibungsradar.com/ausschreibung/a13cebc6-8826-482c-99af-fe2efbf3a49b/
END:VEVENT
BEGIN:VEVENT
UID:5b01dc5e4fda2d18@ausschreibungsradar.com
DTSTAMP:20260424T015559Z
DTSTART;VALUE=DATE:20250821
DTEND;VALUE=DATE:20250821
SUMMARY:Ausschreibung — TUM GAR School of Natural Sciences Gebäude 5117 Laborausstat
DESCRIPTION:Phase: Ausschreibung | Beschreibung: Offizielle Ausschreibung mit Bieterfrist. | Link: https://ausschreibungsradar.com/ausschreibung/6fb50761-91f2-4099-9ae6-d80d11588799/
URL:https://ausschreibungsradar.com/ausschreibung/6fb50761-91f2-4099-9ae6-d80d11588799/
END:VEVENT
BEGIN:VEVENT
UID:ca34c41c9fb9c4ec@ausschreibungsradar.com
DTSTAMP:20260424T015559Z
DTSTART;VALUE=DATE:20250821
DTEND;VALUE=DATE:20250821
SUMMARY:Ausschreibung — TUM GAR School of Natural Sciences Gebäude 5117 Laborausstat
DESCRIPTION:Phase: Ausschreibung | Beschreibung: Offizielle Ausschreibung mit Bieterfrist. | Link: https://ausschreibungsradar.com/ausschreibung/e689f254-9b7b-41c2-8306-5214dc9048b3/
URL:https://ausschreibungsradar.com/ausschreibung/e689f254-9b7b-41c2-8306-5214dc9048b3/
END:VEVENT
BEGIN:VEVENT
UID:c363e015458a9392@ausschreibungsradar.com
DTSTAMP:20260424T015559Z
DTSTART;VALUE=DATE:20251124
DTEND;VALUE=DATE:20251124
SUMMARY:Vergabeergebnis — TUM GAR School of Natural Sciences Gebäude 5117 Laborausstat
DESCRIPTION:Phase: Vergabeergebnis | Beschreibung: Auftrag wurde zugeschlagen | Link: https://ausschreibungsradar.com/ausschreibung/e1a4f609-9b67-4ab2-a55d-8310671aa6eb/ | Geschätzter Wert: 1083000 €
URL:https://ausschreibungsradar.com/ausschreibung/e1a4f609-9b67-4ab2-a55d-8310671aa6eb/
END:VEVENT
END:VCALENDAR
