BEGIN:VCALENDAR
VERSION:2.0
PRODID:-//AusschreibungsRadar//Timeline//DE
CALSCALE:GREGORIAN
METHOD:PUBLISH
X-WR-CALNAME:Projekt Lieferung eines Hilfeleistungslöschgruppenfahrzeuges HLF20 m
X-WR-TIMEZONE:Europe/Berlin
BEGIN:VEVENT
UID:aa3ead61e262b22a@ausschreibungsradar.com
DTSTAMP:20260425T194114Z
DTSTART;VALUE=DATE:20251016
DTEND;VALUE=DATE:20251016
SUMMARY:Angebotsfrist — Lieferung eines Hilfeleistungslöschgruppenfahrzeuges HLF20 m
DESCRIPTION:Phase: Ausschreibung | Beschreibung: Angebote werden eingeholt | Link: https://ausschreibungsradar.com/ausschreibung/3cc2eb3f-a206-4d66-9cda-5bbe0982883f/ | Geschätzter Wert: 595000 €
URL:https://ausschreibungsradar.com/ausschreibung/3cc2eb3f-a206-4d66-9cda-5bbe0982883f/
END:VEVENT
BEGIN:VEVENT
UID:68463c27c64d502d@ausschreibungsradar.com
DTSTAMP:20260425T194114Z
DTSTART;VALUE=DATE:20251204
DTEND;VALUE=DATE:20251204
SUMMARY:Vergabeergebnis — Lieferung eines Hilfeleistungslöschgruppenfahrzeuges HLF20 m
DESCRIPTION:Phase: Vergabeergebnis | Beschreibung: Auftrag wurde zugeschlagen | Link: https://ausschreibungsradar.com/ausschreibung/a1d6e862-d306-4991-bffa-9e7deb90f9db/ | Geschätzter Wert: 595000 €
URL:https://ausschreibungsradar.com/ausschreibung/a1d6e862-d306-4991-bffa-9e7deb90f9db/
END:VEVENT
END:VCALENDAR
