BEGIN:VCALENDAR
VERSION:2.0
PRODID:-//AusschreibungsRadar//Timeline//DE
CALSCALE:GREGORIAN
METHOD:PUBLISH
X-WR-CALNAME:Projekt LK - Neubau Schulzentrum Emmerthal - VE481.01 Gebäudeautomat
X-WR-TIMEZONE:Europe/Berlin
BEGIN:VEVENT
UID:4d2f0e18231f8797@ausschreibungsradar.com
DTSTAMP:20260425T203332Z
DTSTART;VALUE=DATE:20251020
DTEND;VALUE=DATE:20251020
SUMMARY:Zuschlag — LK - Neubau Schulzentrum Emmerthal - VE481.01 Gebäudeautomat
DESCRIPTION:Phase: Zuschlag | Beschreibung: Vergabeergebnis — Auftrag wurde erteilt oder Verfahren beendet. | Link: https://ausschreibungsradar.com/ausschreibung/bafa822a-321f-46a5-a272-3cc3bbca671c/
URL:https://ausschreibungsradar.com/ausschreibung/bafa822a-321f-46a5-a272-3cc3bbca671c/
END:VEVENT
BEGIN:VEVENT
UID:d45e7e5c1c648592@ausschreibungsradar.com
DTSTAMP:20260425T203332Z
DTSTART;VALUE=DATE:20251209
DTEND;VALUE=DATE:20251209
SUMMARY:Angebotsfrist — LK - Neubau Schulzentrum Emmerthal - VE481.01 Gebäudeautomat
DESCRIPTION:Phase: Ausschreibung | Beschreibung: Angebote werden eingeholt | Link: https://ausschreibungsradar.com/ausschreibung/a1eab55f-7780-4976-abc2-17d7c1d8dffc/
URL:https://ausschreibungsradar.com/ausschreibung/a1eab55f-7780-4976-abc2-17d7c1d8dffc/
END:VEVENT
BEGIN:VEVENT
UID:6cd4478b4fe832ff@ausschreibungsradar.com
DTSTAMP:20260425T203332Z
DTSTART;VALUE=DATE:20251128
DTEND;VALUE=DATE:20251128
SUMMARY:Ausschreibung — LK - Neubau Schulzentrum Emmerthal - VE481.01 Gebäudeautomat
DESCRIPTION:Phase: Ausschreibung | Beschreibung: Offizielle Ausschreibung mit Bieterfrist. | Link: https://ausschreibungsradar.com/ausschreibung/998d5466-6823-4437-aaec-b29ddbf9c2d3/
URL:https://ausschreibungsradar.com/ausschreibung/998d5466-6823-4437-aaec-b29ddbf9c2d3/
END:VEVENT
BEGIN:VEVENT
UID:8d206b1a9a80828b@ausschreibungsradar.com
DTSTAMP:20260425T203332Z
DTSTART;VALUE=DATE:20260309
DTEND;VALUE=DATE:20260309
SUMMARY:Vergabeergebnis — LK - Neubau Schulzentrum Emmerthal - VE481.01 Gebäudeautomat
DESCRIPTION:Phase: Vergabeergebnis | Beschreibung: Auftrag wurde zugeschlagen | Link: https://ausschreibungsradar.com/ausschreibung/05893a16-e594-400d-809c-40963552e61b/
URL:https://ausschreibungsradar.com/ausschreibung/05893a16-e594-400d-809c-40963552e61b/
END:VEVENT
END:VCALENDAR
