BEGIN:VCALENDAR
VERSION:2.0
PRODID:-//AusschreibungsRadar//Timeline//DE
CALSCALE:GREGORIAN
METHOD:PUBLISH
X-WR-CALNAME:Projekt Rahmenvereinbarung Implementierung bauliches Corporate Desig
X-WR-TIMEZONE:Europe/Berlin
BEGIN:VEVENT
UID:971b67525b1e8d03@ausschreibungsradar.com
DTSTAMP:20260424T022544Z
DTSTART;VALUE=DATE:20250704
DTEND;VALUE=DATE:20250704
SUMMARY:Angebotsfrist — Rahmenvereinbarung Implementierung bauliches Corporate Desig
DESCRIPTION:Phase: Ausschreibung | Beschreibung: Angebote werden eingeholt | Link: https://ausschreibungsradar.com/ausschreibung/a2ad879e-2add-4354-a18a-4a16b4a42e0a/
URL:https://ausschreibungsradar.com/ausschreibung/a2ad879e-2add-4354-a18a-4a16b4a42e0a/
END:VEVENT
BEGIN:VEVENT
UID:edc0e60f01fbeede@ausschreibungsradar.com
DTSTAMP:20260424T022544Z
DTSTART;VALUE=DATE:20250522
DTEND;VALUE=DATE:20250522
SUMMARY:Ausschreibung — Rahmenvereinbarung Implementierung bauliches Corporate Desig
DESCRIPTION:Phase: Ausschreibung | Beschreibung: Offizielle Ausschreibung mit Bieterfrist. | Link: https://ausschreibungsradar.com/ausschreibung/457fed65-30e3-4d3c-8fc8-43739a5feb41/
URL:https://ausschreibungsradar.com/ausschreibung/457fed65-30e3-4d3c-8fc8-43739a5feb41/
END:VEVENT
BEGIN:VEVENT
UID:c42a3eac9fce7a2c@ausschreibungsradar.com
DTSTAMP:20260424T022544Z
DTSTART;VALUE=DATE:20250903
DTEND;VALUE=DATE:20250903
SUMMARY:Vergabeergebnis — Rahmenvereinbarung Implementierung bauliches Corporate Desig
DESCRIPTION:Phase: Vergabeergebnis | Beschreibung: Auftrag wurde zugeschlagen | Link: https://ausschreibungsradar.com/ausschreibung/40e066fb-d4c9-4ed3-bf62-a3bf5dfd57ac/
URL:https://ausschreibungsradar.com/ausschreibung/40e066fb-d4c9-4ed3-bf62-a3bf5dfd57ac/
END:VEVENT
END:VCALENDAR
