BEGIN:VCALENDAR
VERSION:2.0
PRODID:-//AusschreibungsRadar//Timeline//DE
CALSCALE:GREGORIAN
METHOD:PUBLISH
X-WR-CALNAME:Projekt Sanierung Rathaus Heidenheim - Schreinerarbeiten im EOS
X-WR-TIMEZONE:Europe/Berlin
BEGIN:VEVENT
UID:f1986127235c46bf@ausschreibungsradar.com
DTSTAMP:20260426T014005Z
DTSTART;VALUE=DATE:20260228
DTEND;VALUE=DATE:20260228
SUMMARY:Ausschreibung — Sanierung Rathaus Heidenheim - Schreinerarbeiten im EOS
DESCRIPTION:Phase: Ausschreibung | Beschreibung: Offizielle Ausschreibung mit Bieterfrist. | Link: https://ausschreibungsradar.com/ausschreibung/8536c768-b5eb-458e-a581-598d7ccc4d66/
URL:https://ausschreibungsradar.com/ausschreibung/8536c768-b5eb-458e-a581-598d7ccc4d66/
END:VEVENT
BEGIN:VEVENT
UID:8ae01e39b8865089@ausschreibungsradar.com
DTSTAMP:20260426T014005Z
DTSTART;VALUE=DATE:20260413
DTEND;VALUE=DATE:20260413
SUMMARY:Angebotsfrist — Sanierung Rathaus Heidenheim - Schreinerarbeiten im EOS
DESCRIPTION:Phase: Ausschreibung | Beschreibung: Angebote werden eingeholt | Link: https://ausschreibungsradar.com/ausschreibung/a2b81d63-3591-4b42-b1d8-9ebcec9b981e/
URL:https://ausschreibungsradar.com/ausschreibung/a2b81d63-3591-4b42-b1d8-9ebcec9b981e/
END:VEVENT
END:VCALENDAR
