BEGIN:VCALENDAR
VERSION:2.0
PRODID:-//AusschreibungsRadar//Timeline//DE
CALSCALE:GREGORIAN
METHOD:PUBLISH
X-WR-CALNAME:Projekt KWM / St. Marien-Krankenhaus Ahaus / Umbau und Erweiterung, 
X-WR-TIMEZONE:Europe/Berlin
BEGIN:VEVENT
UID:126cc3bf2771275c@ausschreibungsradar.com
DTSTAMP:20260424T193924Z
DTSTART;VALUE=DATE:20240628
DTEND;VALUE=DATE:20240628
SUMMARY:Angebotsfrist — KWM / St. Marien-Krankenhaus Ahaus / Umbau und Erweiterung\, 
DESCRIPTION:Phase: Ausschreibung | Beschreibung: Angebote werden eingeholt | Link: https://ausschreibungsradar.com/ausschreibung/ec1319c0-d51e-43a1-b189-22970ed06681/ | Geschätzter Wert: 1 €
URL:https://ausschreibungsradar.com/ausschreibung/ec1319c0-d51e-43a1-b189-22970ed06681/
END:VEVENT
BEGIN:VEVENT
UID:9266c11e46f6570a@ausschreibungsradar.com
DTSTAMP:20260424T193924Z
DTSTART;VALUE=DATE:20240816
DTEND;VALUE=DATE:20240816
SUMMARY:Zuschlag — KWM / St. Marien-Krankenhaus Ahaus / Umbau und Erweiterung\, 
DESCRIPTION:Phase: Zuschlag | Beschreibung: Vergabeergebnis — Auftrag wurde erteilt oder Verfahren beendet. | Link: https://ausschreibungsradar.com/ausschreibung/21a73fa9-3a5b-4356-942e-1107348aa702/
URL:https://ausschreibungsradar.com/ausschreibung/21a73fa9-3a5b-4356-942e-1107348aa702/
END:VEVENT
BEGIN:VEVENT
UID:4eae0866fdeedc23@ausschreibungsradar.com
DTSTAMP:20260424T193924Z
DTSTART;VALUE=DATE:20240906
DTEND;VALUE=DATE:20240906
SUMMARY:Vergabeergebnis — KWM / St. Marien-Krankenhaus Ahaus / Umbau und Erweiterung\, 
DESCRIPTION:Phase: Vergabeergebnis | Beschreibung: Auftrag wurde zugeschlagen | Link: https://ausschreibungsradar.com/ausschreibung/a2c975c8-4fc3-4ecc-b04f-3f1230e6c431/
URL:https://ausschreibungsradar.com/ausschreibung/a2c975c8-4fc3-4ecc-b04f-3f1230e6c431/
END:VEVENT
END:VCALENDAR
