BEGIN:VCALENDAR
VERSION:2.0
PRODID:-//AusschreibungsRadar//Timeline//DE
CALSCALE:GREGORIAN
METHOD:PUBLISH
X-WR-CALNAME:Projekt Sanierung Remeis-Hügel (Roter Berg) mit Villa Remeis – Fachp
X-WR-TIMEZONE:Europe/Berlin
BEGIN:VEVENT
UID:8060353313178bc9@ausschreibungsradar.com
DTSTAMP:20260425T230007Z
DTSTART;VALUE=DATE:20250603
DTEND;VALUE=DATE:20250603
SUMMARY:Ausschreibung — Sanierung Remeis-Hügel (Roter Berg) mit Villa Remeis – Fachp
DESCRIPTION:Phase: Ausschreibung | Beschreibung: Offizielle Ausschreibung mit Bieterfrist. | Link: https://ausschreibungsradar.com/ausschreibung/a39a76a7-02cc-4074-a6e1-7a8e00ec2dc1/
URL:https://ausschreibungsradar.com/ausschreibung/a39a76a7-02cc-4074-a6e1-7a8e00ec2dc1/
END:VEVENT
BEGIN:VEVENT
UID:0084a85e5114a9ef@ausschreibungsradar.com
DTSTAMP:20260425T230007Z
DTSTART;VALUE=DATE:20250603
DTEND;VALUE=DATE:20250603
SUMMARY:Ausschreibung — Sanierung Remeis-Hügel (Roter Berg) mit Villa Remeis – Fachp
DESCRIPTION:Phase: Ausschreibung | Beschreibung: Offizielle Ausschreibung mit Bieterfrist. | Link: https://ausschreibungsradar.com/ausschreibung/70b32660-f31b-4a7f-b64a-1b554fc7f22e/
URL:https://ausschreibungsradar.com/ausschreibung/70b32660-f31b-4a7f-b64a-1b554fc7f22e/
END:VEVENT
END:VCALENDAR
