BEGIN:VCALENDAR
VERSION:2.0
PRODID:-//AusschreibungsRadar//Timeline//DE
CALSCALE:GREGORIAN
METHOD:PUBLISH
X-WR-CALNAME:Projekt REZ BBSAT 45ind Perspektivenschmiede - Jobcenter Cottbus
X-WR-TIMEZONE:Europe/Berlin
BEGIN:VEVENT
UID:e53a08146e93f010@ausschreibungsradar.com
DTSTAMP:20260425T132253Z
DTSTART;VALUE=DATE:20260128
DTEND;VALUE=DATE:20260128
SUMMARY:Ausschreibung — REZ BBSAT 45ind Perspektivenschmiede - Jobcenter Cottbus
DESCRIPTION:Phase: Ausschreibung | Beschreibung: Angebote werden eingeholt | Link: https://ausschreibungsradar.com/ausschreibung/a3fb2f50-c86e-41a1-ae98-7211a405fc88/
URL:https://ausschreibungsradar.com/ausschreibung/a3fb2f50-c86e-41a1-ae98-7211a405fc88/
END:VEVENT
BEGIN:VEVENT
UID:8b63214992537c49@ausschreibungsradar.com
DTSTAMP:20260425T132253Z
DTSTART;VALUE=DATE:20260413
DTEND;VALUE=DATE:20260413
SUMMARY:Vergabeergebnis — REZ BBSAT 45ind Perspektivenschmiede - Jobcenter Cottbus
DESCRIPTION:Phase: Vergabeergebnis | Beschreibung: Auftrag wurde zugeschlagen | Link: https://ausschreibungsradar.com/ausschreibung/cd6fa3ef-df47-4897-a1fc-6650462695a7/
URL:https://ausschreibungsradar.com/ausschreibung/cd6fa3ef-df47-4897-a1fc-6650462695a7/
END:VEVENT
END:VCALENDAR
