BEGIN:VCALENDAR
VERSION:2.0
PRODID:-//AusschreibungsRadar//Timeline//DE
CALSCALE:GREGORIAN
METHOD:PUBLISH
X-WR-CALNAME:Projekt Baulich-technische Sanierung Tiefgarage Marktplatz Sindelfin
X-WR-TIMEZONE:Europe/Berlin
BEGIN:VEVENT
UID:a917b314fd533ab9@ausschreibungsradar.com
DTSTAMP:20260425T194013Z
DTSTART;VALUE=DATE:20250318
DTEND;VALUE=DATE:20250318
SUMMARY:Ausschreibung — Baulich-technische Sanierung Tiefgarage Marktplatz Sindelfin
DESCRIPTION:Phase: Ausschreibung | Beschreibung: Offizielle Ausschreibung mit Bieterfrist. | Link: https://ausschreibungsradar.com/ausschreibung/aa2278b4-3df6-47b3-bdaa-d4d2bc0b26ac/
URL:https://ausschreibungsradar.com/ausschreibung/aa2278b4-3df6-47b3-bdaa-d4d2bc0b26ac/
END:VEVENT
BEGIN:VEVENT
UID:157151821d71edb5@ausschreibungsradar.com
DTSTAMP:20260425T194013Z
DTSTART;VALUE=DATE:20250613
DTEND;VALUE=DATE:20250613
SUMMARY:Angebotsfrist — Baulich-technische Sanierung Tiefgarage Marktplatz Sindelfin
DESCRIPTION:Phase: Ausschreibung | Beschreibung: Angebote werden eingeholt | Link: https://ausschreibungsradar.com/ausschreibung/a442e8e4-b364-40a7-bd2d-31fda959041c/
URL:https://ausschreibungsradar.com/ausschreibung/a442e8e4-b364-40a7-bd2d-31fda959041c/
END:VEVENT
BEGIN:VEVENT
UID:384011facabdee33@ausschreibungsradar.com
DTSTAMP:20260425T194013Z
DTSTART;VALUE=DATE:20250510
DTEND;VALUE=DATE:20250510
SUMMARY:Ausschreibung — Baulich-technische Sanierung Tiefgarage Marktplatz Sindelfin
DESCRIPTION:Phase: Ausschreibung | Beschreibung: Offizielle Ausschreibung mit Bieterfrist. | Link: https://ausschreibungsradar.com/ausschreibung/2837dc96-85d2-4a4f-ad39-d60feb4a4918/
URL:https://ausschreibungsradar.com/ausschreibung/2837dc96-85d2-4a4f-ad39-d60feb4a4918/
END:VEVENT
BEGIN:VEVENT
UID:13c9006014e8356a@ausschreibungsradar.com
DTSTAMP:20260425T194013Z
DTSTART;VALUE=DATE:20250627
DTEND;VALUE=DATE:20250627
SUMMARY:Zuschlag — Baulich-technische Sanierung Tiefgarage Marktplatz Sindelfin
DESCRIPTION:Phase: Zuschlag | Beschreibung: Vergabeergebnis — Auftrag wurde erteilt oder Verfahren beendet. | Link: https://ausschreibungsradar.com/ausschreibung/19b4e232-bf9a-4e96-9573-286d59ef9780/
URL:https://ausschreibungsradar.com/ausschreibung/19b4e232-bf9a-4e96-9573-286d59ef9780/
END:VEVENT
BEGIN:VEVENT
UID:a92b02d1cec3bde6@ausschreibungsradar.com
DTSTAMP:20260425T194013Z
DTSTART;VALUE=DATE:20250627
DTEND;VALUE=DATE:20250627
SUMMARY:Zuschlag — Baulich-technische Sanierung Tiefgarage Marktplatz Sindelfin
DESCRIPTION:Phase: Zuschlag | Beschreibung: Vergabeergebnis — Auftrag wurde erteilt oder Verfahren beendet. | Link: https://ausschreibungsradar.com/ausschreibung/1d3f177b-d98a-4412-abf4-cba8007442b5/
URL:https://ausschreibungsradar.com/ausschreibung/1d3f177b-d98a-4412-abf4-cba8007442b5/
END:VEVENT
BEGIN:VEVENT
UID:5965ad1d7f3be473@ausschreibungsradar.com
DTSTAMP:20260425T194013Z
DTSTART;VALUE=DATE:20260121
DTEND;VALUE=DATE:20260121
SUMMARY:Vergabeergebnis — Baulich-technische Sanierung Tiefgarage Marktplatz Sindelfin
DESCRIPTION:Phase: Vergabeergebnis | Beschreibung: Auftrag wurde zugeschlagen | Link: https://ausschreibungsradar.com/ausschreibung/8544bec3-3368-4df0-9bfd-51942fc51dcd/
URL:https://ausschreibungsradar.com/ausschreibung/8544bec3-3368-4df0-9bfd-51942fc51dcd/
END:VEVENT
END:VCALENDAR
