BEGIN:VCALENDAR
VERSION:2.0
PRODID:-//AusschreibungsRadar//Timeline//DE
CALSCALE:GREGORIAN
METHOD:PUBLISH
X-WR-CALNAME:Projekt Bodenentsorgung Gruppenklärwerke Rastatt und Gaggenau / 4. R
X-WR-TIMEZONE:Europe/Berlin
BEGIN:VEVENT
UID:e6a985b795fea438@ausschreibungsradar.com
DTSTAMP:20260423T223422Z
DTSTART;VALUE=DATE:20240730
DTEND;VALUE=DATE:20240730
SUMMARY:Angebotsfrist — Bodenentsorgung Gruppenklärwerke Rastatt und Gaggenau / 4. R
DESCRIPTION:Phase: Ausschreibung | Beschreibung: Angebote werden eingeholt | Link: https://ausschreibungsradar.com/ausschreibung/2cd3bd2c-67da-48d7-88da-3a0a5753c931/ | Geschätzter Wert: 400000 €
URL:https://ausschreibungsradar.com/ausschreibung/2cd3bd2c-67da-48d7-88da-3a0a5753c931/
END:VEVENT
BEGIN:VEVENT
UID:552a4cd83c372fd7@ausschreibungsradar.com
DTSTAMP:20260423T223422Z
DTSTART;VALUE=DATE:20240927
DTEND;VALUE=DATE:20240927
SUMMARY:Vergabeergebnis — Bodenentsorgung Gruppenklärwerke Rastatt und Gaggenau / 4. R
DESCRIPTION:Phase: Vergabeergebnis | Beschreibung: Auftrag wurde zugeschlagen | Link: https://ausschreibungsradar.com/ausschreibung/a48269b6-771e-424f-bdfa-e1257a84ee93/ | Geschätzter Wert: 400000 €
URL:https://ausschreibungsradar.com/ausschreibung/a48269b6-771e-424f-bdfa-e1257a84ee93/
END:VEVENT
END:VCALENDAR
