BEGIN:VCALENDAR
VERSION:2.0
PRODID:-//AusschreibungsRadar//Timeline//DE
CALSCALE:GREGORIAN
METHOD:PUBLISH
X-WR-CALNAME:Projekt Mehrpartner-Rahmenvertrag Häckseln
X-WR-TIMEZONE:Europe/Berlin
BEGIN:VEVENT
UID:23a22b57bd4f3465@ausschreibungsradar.com
DTSTAMP:20260425T155047Z
DTSTART;VALUE=DATE:20260220
DTEND;VALUE=DATE:20260220
SUMMARY:Ausschreibung — Mehrpartner-Rahmenvertrag Häckseln
DESCRIPTION:Phase: Ausschreibung | Beschreibung: Angebote werden eingeholt | Link: https://ausschreibungsradar.com/ausschreibung/7b633994-5da5-4d91-a568-11c7215f58cb/
URL:https://ausschreibungsradar.com/ausschreibung/7b633994-5da5-4d91-a568-11c7215f58cb/
END:VEVENT
BEGIN:VEVENT
UID:641ba1039866c5e5@ausschreibungsradar.com
DTSTAMP:20260425T155047Z
DTSTART;VALUE=DATE:20260421
DTEND;VALUE=DATE:20260421
SUMMARY:Vergabeergebnis — Mehrpartner-Rahmenvertrag Häckseln
DESCRIPTION:Phase: Vergabeergebnis | Beschreibung: Auftrag wurde zugeschlagen | Link: https://ausschreibungsradar.com/ausschreibung/a4b0b2ee-b0d1-41e7-860c-14cd5fbeee4f/
URL:https://ausschreibungsradar.com/ausschreibung/a4b0b2ee-b0d1-41e7-860c-14cd5fbeee4f/
END:VEVENT
END:VCALENDAR
