BEGIN:VCALENDAR
VERSION:2.0
PRODID:-//AusschreibungsRadar//Timeline//DE
CALSCALE:GREGORIAN
METHOD:PUBLISH
X-WR-CALNAME:Projekt Neugestaltung der Parkanlage im oberen Stadtgraben (Obere un
X-WR-TIMEZONE:Europe/Berlin
BEGIN:VEVENT
UID:545565bd9dcec762@ausschreibungsradar.com
DTSTAMP:20260425T181447Z
DTSTART;VALUE=DATE:20250825
DTEND;VALUE=DATE:20250825
SUMMARY:Ausschreibung — Neugestaltung der Parkanlage im oberen Stadtgraben (Obere un
DESCRIPTION:Phase: Ausschreibung | Beschreibung: Angebote werden eingeholt | Link: https://ausschreibungsradar.com/ausschreibung/a5695d31-3b85-4a9a-97de-2cc2a238aa94/
URL:https://ausschreibungsradar.com/ausschreibung/a5695d31-3b85-4a9a-97de-2cc2a238aa94/
END:VEVENT
BEGIN:VEVENT
UID:042b40ff307f208e@ausschreibungsradar.com
DTSTAMP:20260425T181447Z
DTSTART;VALUE=DATE:20251027
DTEND;VALUE=DATE:20251027
SUMMARY:Vergabeergebnis — Neugestaltung der Parkanlage im oberen Stadtgraben (Obere un
DESCRIPTION:Phase: Vergabeergebnis | Beschreibung: Auftrag wurde zugeschlagen | Link: https://ausschreibungsradar.com/ausschreibung/4d526539-5438-4ea0-adc9-66948ef9ed88/
URL:https://ausschreibungsradar.com/ausschreibung/4d526539-5438-4ea0-adc9-66948ef9ed88/
END:VEVENT
END:VCALENDAR
