BEGIN:VCALENDAR
VERSION:2.0
PRODID:-//AusschreibungsRadar//Timeline//DE
CALSCALE:GREGORIAN
METHOD:PUBLISH
X-WR-CALNAME:Projekt Zentrum für Schulqualität und Lehrerbildung (ZSL) - Vergabe 
X-WR-TIMEZONE:Europe/Berlin
BEGIN:VEVENT
UID:199b69f96421b33c@ausschreibungsradar.com
DTSTAMP:20260423T232611Z
DTSTART;VALUE=DATE:20260319
DTEND;VALUE=DATE:20260319
SUMMARY:Ausschreibung — Zentrum für Schulqualität und Lehrerbildung (ZSL) - Vergabe 
DESCRIPTION:Phase: Ausschreibung | Beschreibung: Angebote werden eingeholt | Link: https://ausschreibungsradar.com/ausschreibung/a56f00d4-2dfd-48cc-85ea-a625a7e88f36/
URL:https://ausschreibungsradar.com/ausschreibung/a56f00d4-2dfd-48cc-85ea-a625a7e88f36/
END:VEVENT
BEGIN:VEVENT
UID:68719e901c46ed9b@ausschreibungsradar.com
DTSTAMP:20260423T232611Z
DTSTART;VALUE=DATE:20260319
DTEND;VALUE=DATE:20260319
SUMMARY:Ausschreibung — Zentrum für Schulqualität und Lehrerbildung (ZSL) - Vergabe 
DESCRIPTION:Phase: Ausschreibung | Beschreibung: Offizielle Ausschreibung mit Bieterfrist. | Link: https://ausschreibungsradar.com/ausschreibung/52ea677b-19f0-4beb-83e9-22183fe57822/
URL:https://ausschreibungsradar.com/ausschreibung/52ea677b-19f0-4beb-83e9-22183fe57822/
END:VEVENT
END:VCALENDAR
