BEGIN:VCALENDAR
VERSION:2.0
PRODID:-//AusschreibungsRadar//Timeline//DE
CALSCALE:GREGORIAN
METHOD:PUBLISH
X-WR-CALNAME:Projekt PSA Profischule Campus - Metallbauarbeiten - Innentüren
X-WR-TIMEZONE:Europe/Berlin
BEGIN:VEVENT
UID:eff045ddc5a7e5de@ausschreibungsradar.com
DTSTAMP:20260425T205205Z
DTSTART;VALUE=DATE:20250926
DTEND;VALUE=DATE:20250926
SUMMARY:Angebotsfrist — PSA Profischule Campus - Metallbauarbeiten - Innentüren
DESCRIPTION:Phase: Ausschreibung | Beschreibung: Angebote werden eingeholt | Link: https://ausschreibungsradar.com/ausschreibung/74922741-2eea-42c3-a15b-90fb531a1499/
URL:https://ausschreibungsradar.com/ausschreibung/74922741-2eea-42c3-a15b-90fb531a1499/
END:VEVENT
BEGIN:VEVENT
UID:815f47b1d2316c16@ausschreibungsradar.com
DTSTAMP:20260425T205205Z
DTSTART;VALUE=DATE:20251110
DTEND;VALUE=DATE:20251110
SUMMARY:Vergabeergebnis — PSA Profischule Campus - Metallbauarbeiten - Innentüren
DESCRIPTION:Phase: Vergabeergebnis | Beschreibung: Auftrag wurde zugeschlagen | Link: https://ausschreibungsradar.com/ausschreibung/a5ca3c02-dba5-4322-a4de-122b4ef50608/
URL:https://ausschreibungsradar.com/ausschreibung/a5ca3c02-dba5-4322-a4de-122b4ef50608/
END:VEVENT
END:VCALENDAR
