BEGIN:VCALENDAR
VERSION:2.0
PRODID:-//AusschreibungsRadar//Timeline//DE
CALSCALE:GREGORIAN
METHOD:PUBLISH
X-WR-CALNAME:Projekt VE03_TGA-Planung, Külz Platz 29
X-WR-TIMEZONE:Europe/Berlin
BEGIN:VEVENT
UID:5da1f190e6bb09f5@ausschreibungsradar.com
DTSTAMP:20260426T005742Z
DTSTART;VALUE=DATE:20240216
DTEND;VALUE=DATE:20240216
SUMMARY:Angebotsfrist — VE03_TGA-Planung\, Külz Platz 29
DESCRIPTION:Phase: Ausschreibung | Beschreibung: Angebote werden eingeholt | Link: https://ausschreibungsradar.com/ausschreibung/a7eed51b-8ae5-4b24-8ded-7bf5286ea046/
URL:https://ausschreibungsradar.com/ausschreibung/a7eed51b-8ae5-4b24-8ded-7bf5286ea046/
END:VEVENT
BEGIN:VEVENT
UID:16775f0d00c43d10@ausschreibungsradar.com
DTSTAMP:20260426T005742Z
DTSTART;VALUE=DATE:20240112
DTEND;VALUE=DATE:20240112
SUMMARY:Ausschreibung — VE03_TGA-Planung\, Külz Platz 29
DESCRIPTION:Phase: Ausschreibung | Beschreibung: Offizielle Ausschreibung mit Bieterfrist. | Link: https://ausschreibungsradar.com/ausschreibung/12da2987-9a80-4e0b-a9ce-2a49a13748bf/
URL:https://ausschreibungsradar.com/ausschreibung/12da2987-9a80-4e0b-a9ce-2a49a13748bf/
END:VEVENT
BEGIN:VEVENT
UID:3ff15b600e85f63b@ausschreibungsradar.com
DTSTAMP:20260426T005742Z
DTSTART;VALUE=DATE:20240115
DTEND;VALUE=DATE:20240115
SUMMARY:Ausschreibung — VE03_TGA-Planung\, Külz Platz 29
DESCRIPTION:Phase: Ausschreibung | Beschreibung: Offizielle Ausschreibung mit Bieterfrist. | Link: https://ausschreibungsradar.com/ausschreibung/ted-27503-2024/
URL:https://ausschreibungsradar.com/ausschreibung/ted-27503-2024/
END:VEVENT
BEGIN:VEVENT
UID:c77b962f6f5798bc@ausschreibungsradar.com
DTSTAMP:20260426T005742Z
DTSTART;VALUE=DATE:20240305
DTEND;VALUE=DATE:20240305
SUMMARY:Vergabeergebnis — VE03_TGA-Planung\, Külz Platz 29
DESCRIPTION:Phase: Vergabeergebnis | Beschreibung: Auftrag wurde zugeschlagen | Link: https://ausschreibungsradar.com/ausschreibung/0d70d642-8a28-430c-a974-8fa92f768cdc/
URL:https://ausschreibungsradar.com/ausschreibung/0d70d642-8a28-430c-a974-8fa92f768cdc/
END:VEVENT
END:VCALENDAR
