BEGIN:VCALENDAR
VERSION:2.0
PRODID:-//AusschreibungsRadar//Timeline//DE
CALSCALE:GREGORIAN
METHOD:PUBLISH
X-WR-CALNAME:Projekt Hohenzollerngruft / Touristische Infrastruktur Berliner Dom 
X-WR-TIMEZONE:Europe/Berlin
BEGIN:VEVENT
UID:24b62ff9b3211977@ausschreibungsradar.com
DTSTAMP:20260425T173952Z
DTSTART;VALUE=DATE:20240226
DTEND;VALUE=DATE:20240226
SUMMARY:Angebotsfrist — Hohenzollerngruft / Touristische Infrastruktur Berliner Dom 
DESCRIPTION:Phase: Ausschreibung | Beschreibung: Angebote werden eingeholt | Link: https://ausschreibungsradar.com/ausschreibung/a87f7009-8632-4411-bac5-618f3bbf6fdb/
URL:https://ausschreibungsradar.com/ausschreibung/a87f7009-8632-4411-bac5-618f3bbf6fdb/
END:VEVENT
BEGIN:VEVENT
UID:423414c852ac36fc@ausschreibungsradar.com
DTSTAMP:20260425T173952Z
DTSTART;VALUE=DATE:20240112
DTEND;VALUE=DATE:20240112
SUMMARY:Ausschreibung — Hohenzollerngruft / Touristische Infrastruktur Berliner Dom 
DESCRIPTION:Phase: Ausschreibung | Beschreibung: Offizielle Ausschreibung mit Bieterfrist. | Link: https://ausschreibungsradar.com/ausschreibung/58ae87e9-7ddc-431e-b303-3bd58584f5e8/
URL:https://ausschreibungsradar.com/ausschreibung/58ae87e9-7ddc-431e-b303-3bd58584f5e8/
END:VEVENT
BEGIN:VEVENT
UID:7550e09956a1c33f@ausschreibungsradar.com
DTSTAMP:20260425T173952Z
DTSTART;VALUE=DATE:20240112
DTEND;VALUE=DATE:20240112
SUMMARY:Ausschreibung — Hohenzollerngruft / Touristische Infrastruktur Berliner Dom 
DESCRIPTION:Phase: Ausschreibung | Beschreibung: Offizielle Ausschreibung mit Bieterfrist. | Link: https://ausschreibungsradar.com/ausschreibung/fce2f283-e6fa-4a7e-8b8a-09558144f935/
URL:https://ausschreibungsradar.com/ausschreibung/fce2f283-e6fa-4a7e-8b8a-09558144f935/
END:VEVENT
END:VCALENDAR
