BEGIN:VCALENDAR
VERSION:2.0
PRODID:-//AusschreibungsRadar//Timeline//DE
CALSCALE:GREGORIAN
METHOD:PUBLISH
X-WR-CALNAME:Projekt Energetische Sanierung Grundschule Münstermaifeld, Los 1: Ob
X-WR-TIMEZONE:Europe/Berlin
BEGIN:VEVENT
UID:0698f7138ee98366@ausschreibungsradar.com
DTSTAMP:20260425T203201Z
DTSTART;VALUE=DATE:20250710
DTEND;VALUE=DATE:20250710
SUMMARY:Ausschreibung — Energetische Sanierung Grundschule Münstermaifeld\, Los 1: Ob
DESCRIPTION:Phase: Ausschreibung | Beschreibung: Angebote werden eingeholt | Link: https://ausschreibungsradar.com/ausschreibung/8bf3627d-67b8-4d47-b114-ef4b96d0290e/
URL:https://ausschreibungsradar.com/ausschreibung/8bf3627d-67b8-4d47-b114-ef4b96d0290e/
END:VEVENT
BEGIN:VEVENT
UID:996803acf7181f0f@ausschreibungsradar.com
DTSTAMP:20260425T203201Z
DTSTART;VALUE=DATE:20260421
DTEND;VALUE=DATE:20260421
SUMMARY:Vergabeergebnis — Energetische Sanierung Grundschule Münstermaifeld\, Los 1: Ob
DESCRIPTION:Phase: Vergabeergebnis | Beschreibung: Auftrag wurde zugeschlagen | Link: https://ausschreibungsradar.com/ausschreibung/a942dc8b-7dc7-45f0-9b3b-38e58d60bfbe/
URL:https://ausschreibungsradar.com/ausschreibung/a942dc8b-7dc7-45f0-9b3b-38e58d60bfbe/
END:VEVENT
BEGIN:VEVENT
UID:5f777543c75bc26b@ausschreibungsradar.com
DTSTAMP:20260425T203201Z
DTSTART;VALUE=DATE:20260421
DTEND;VALUE=DATE:20260421
SUMMARY:Zuschlag — Energetische Sanierung Grundschule Münstermaifeld\, Los 1: Ob
DESCRIPTION:Phase: Zuschlag | Beschreibung: Vergabeergebnis — Auftrag wurde erteilt oder Verfahren beendet. | Link: https://ausschreibungsradar.com/ausschreibung/5365d552-e85e-457a-926e-0f2bdf4d1946/
URL:https://ausschreibungsradar.com/ausschreibung/5365d552-e85e-457a-926e-0f2bdf4d1946/
END:VEVENT
END:VCALENDAR
