BEGIN:VCALENDAR
VERSION:2.0
PRODID:-//AusschreibungsRadar//Timeline//DE
CALSCALE:GREGORIAN
METHOD:PUBLISH
X-WR-CALNAME:Projekt Erbringung von Personenbeförderungsleistungen im On Demand-V
X-WR-TIMEZONE:Europe/Berlin
BEGIN:VEVENT
UID:efd63b8d0d8c47f6@ausschreibungsradar.com
DTSTAMP:20260425T215927Z
DTSTART;VALUE=DATE:20240902
DTEND;VALUE=DATE:20240902
SUMMARY:Angebotsfrist — Erbringung von Personenbeförderungsleistungen im On Demand-V
DESCRIPTION:Phase: Ausschreibung | Beschreibung: Angebote werden eingeholt | Link: https://ausschreibungsradar.com/ausschreibung/d7bce30f-ec14-4453-adfe-9221021197b1/
URL:https://ausschreibungsradar.com/ausschreibung/d7bce30f-ec14-4453-adfe-9221021197b1/
END:VEVENT
BEGIN:VEVENT
UID:3bf330f09704c8aa@ausschreibungsradar.com
DTSTAMP:20260425T215927Z
DTSTART;VALUE=DATE:20241018
DTEND;VALUE=DATE:20241018
SUMMARY:Vergabeergebnis — Erbringung von Personenbeförderungsleistungen im On Demand-V
DESCRIPTION:Phase: Vergabeergebnis | Beschreibung: Auftrag wurde zugeschlagen | Link: https://ausschreibungsradar.com/ausschreibung/a9bf6473-66fa-44a0-9882-796171d75251/
URL:https://ausschreibungsradar.com/ausschreibung/a9bf6473-66fa-44a0-9882-796171d75251/
END:VEVENT
END:VCALENDAR
