BEGIN:VCALENDAR
VERSION:2.0
PRODID:-//AusschreibungsRadar//Timeline//DE
CALSCALE:GREGORIAN
METHOD:PUBLISH
X-WR-CALNAME:Projekt Lieferung eines Feuerwehrfahrzeugs TSF-W nach DIN 14530-17 f
X-WR-TIMEZONE:Europe/Berlin
BEGIN:VEVENT
UID:7e98b8ce3f13d016@ausschreibungsradar.com
DTSTAMP:20260425T004150Z
DTSTART;VALUE=DATE:20251127
DTEND;VALUE=DATE:20251127
SUMMARY:Angebotsfrist — Lieferung eines Feuerwehrfahrzeugs TSF-W nach DIN 14530-17 f
DESCRIPTION:Phase: Ausschreibung | Beschreibung: Angebote werden eingeholt | Link: https://ausschreibungsradar.com/ausschreibung/b1466af9-144b-4b00-b7e5-744cecc1e8f5/ | Geschätzter Wert: 255000 €
URL:https://ausschreibungsradar.com/ausschreibung/b1466af9-144b-4b00-b7e5-744cecc1e8f5/
END:VEVENT
BEGIN:VEVENT
UID:149bd3c6742160b2@ausschreibungsradar.com
DTSTAMP:20260425T004150Z
DTSTART;VALUE=DATE:20260109
DTEND;VALUE=DATE:20260109
SUMMARY:Vergabeergebnis — Lieferung eines Feuerwehrfahrzeugs TSF-W nach DIN 14530-17 f
DESCRIPTION:Phase: Vergabeergebnis | Beschreibung: Auftrag wurde zugeschlagen | Link: https://ausschreibungsradar.com/ausschreibung/a9df53aa-bf3f-450a-a7d3-2a56853b1861/
URL:https://ausschreibungsradar.com/ausschreibung/a9df53aa-bf3f-450a-a7d3-2a56853b1861/
END:VEVENT
END:VCALENDAR
