BEGIN:VCALENDAR
VERSION:2.0
PRODID:-//AusschreibungsRadar//Timeline//DE
CALSCALE:GREGORIAN
METHOD:PUBLISH
X-WR-CALNAME:Projekt Ausschreibung Uinified Communication Lösung
X-WR-TIMEZONE:Europe/Berlin
BEGIN:VEVENT
UID:3cfe63e59f347b2a@ausschreibungsradar.com
DTSTAMP:20260424T160737Z
DTSTART;VALUE=DATE:20250525
DTEND;VALUE=DATE:20250525
SUMMARY:Ausschreibung — Ausschreibung Uinified Communication Lösung
DESCRIPTION:Phase: Ausschreibung | Beschreibung: Angebote werden eingeholt | Link: https://ausschreibungsradar.com/ausschreibung/aa07a05c-0e30-42db-b4e4-6e0d772f1938/ | Geschätzter Wert: 500000 €
URL:https://ausschreibungsradar.com/ausschreibung/aa07a05c-0e30-42db-b4e4-6e0d772f1938/
END:VEVENT
BEGIN:VEVENT
UID:815b56d61e6c8cef@ausschreibungsradar.com
DTSTAMP:20260424T160737Z
DTSTART;VALUE=DATE:20250525
DTEND;VALUE=DATE:20250525
SUMMARY:Ausschreibung — Ausschreibung Uinified Communication Lösung
DESCRIPTION:Phase: Ausschreibung | Beschreibung: Offizielle Ausschreibung mit Bieterfrist. | Link: https://ausschreibungsradar.com/ausschreibung/33684083-1cd2-4815-bdb2-b66e8c5a0492/
URL:https://ausschreibungsradar.com/ausschreibung/33684083-1cd2-4815-bdb2-b66e8c5a0492/
END:VEVENT
BEGIN:VEVENT
UID:fff868b8b1ec834a@ausschreibungsradar.com
DTSTAMP:20260424T160737Z
DTSTART;VALUE=DATE:20250710
DTEND;VALUE=DATE:20250710
SUMMARY:Vergabeergebnis — Ausschreibung Uinified Communication Lösung
DESCRIPTION:Phase: Vergabeergebnis | Beschreibung: Auftrag wurde zugeschlagen | Link: https://ausschreibungsradar.com/ausschreibung/04bbca2d-488a-4bf6-9910-494d5a9ee318/ | Auftragnehmer: Enterprise Communications
URL:https://ausschreibungsradar.com/ausschreibung/04bbca2d-488a-4bf6-9910-494d5a9ee318/
END:VEVENT
END:VCALENDAR
