BEGIN:VCALENDAR
VERSION:2.0
PRODID:-//AusschreibungsRadar//Timeline//DE
CALSCALE:GREGORIAN
METHOD:PUBLISH
X-WR-CALNAME:Projekt Abschluss eines Rahmenvertrages über die Unterhaltsreinigung
X-WR-TIMEZONE:Europe/Berlin
BEGIN:VEVENT
UID:4c3303a938cb2907@ausschreibungsradar.com
DTSTAMP:20260426T013328Z
DTSTART;VALUE=DATE:20251230
DTEND;VALUE=DATE:20251230
SUMMARY:Angebotsfrist — Abschluss eines Rahmenvertrages über die Unterhaltsreinigung
DESCRIPTION:Phase: Ausschreibung | Beschreibung: Angebote werden eingeholt | Link: https://ausschreibungsradar.com/ausschreibung/ab9d884a-cce6-4203-baee-c653d4c2d477/
URL:https://ausschreibungsradar.com/ausschreibung/ab9d884a-cce6-4203-baee-c653d4c2d477/
END:VEVENT
BEGIN:VEVENT
UID:6d547b7b22544d73@ausschreibungsradar.com
DTSTAMP:20260426T013328Z
DTSTART;VALUE=DATE:20251118
DTEND;VALUE=DATE:20251118
SUMMARY:Ausschreibung — Abschluss eines Rahmenvertrages über die Unterhaltsreinigung
DESCRIPTION:Phase: Ausschreibung | Beschreibung: Offizielle Ausschreibung mit Bieterfrist. | Link: https://ausschreibungsradar.com/ausschreibung/07ef65ff-aeb2-40e9-9008-b2fa24ed07d7/
URL:https://ausschreibungsradar.com/ausschreibung/07ef65ff-aeb2-40e9-9008-b2fa24ed07d7/
END:VEVENT
BEGIN:VEVENT
UID:bd2fd0639a9894b8@ausschreibungsradar.com
DTSTAMP:20260426T013328Z
DTSTART;VALUE=DATE:20251118
DTEND;VALUE=DATE:20251118
SUMMARY:Ausschreibung — Abschluss eines Rahmenvertrages über die Unterhaltsreinigung
DESCRIPTION:Phase: Ausschreibung | Beschreibung: Offizielle Ausschreibung mit Bieterfrist. | Link: https://ausschreibungsradar.com/ausschreibung/d2733cd1-b2c0-4029-a381-b14928c92a3d/
URL:https://ausschreibungsradar.com/ausschreibung/d2733cd1-b2c0-4029-a381-b14928c92a3d/
END:VEVENT
BEGIN:VEVENT
UID:dd697293390b108d@ausschreibungsradar.com
DTSTAMP:20260426T013328Z
DTSTART;VALUE=DATE:20251118
DTEND;VALUE=DATE:20251118
SUMMARY:Ausschreibung — Abschluss eines Rahmenvertrages über die Unterhaltsreinigung
DESCRIPTION:Phase: Ausschreibung | Beschreibung: Offizielle Ausschreibung mit Bieterfrist. | Link: https://ausschreibungsradar.com/ausschreibung/5637fdba-fc41-46b9-987c-0ef3b2b7009c/
URL:https://ausschreibungsradar.com/ausschreibung/5637fdba-fc41-46b9-987c-0ef3b2b7009c/
END:VEVENT
BEGIN:VEVENT
UID:04c7a24509cfd959@ausschreibungsradar.com
DTSTAMP:20260426T013328Z
DTSTART;VALUE=DATE:20251209
DTEND;VALUE=DATE:20251209
SUMMARY:Ausschreibung — Abschluss eines Rahmenvertrages über die Unterhaltsreinigung
DESCRIPTION:Phase: Ausschreibung | Beschreibung: Offizielle Ausschreibung mit Bieterfrist. | Link: https://ausschreibungsradar.com/ausschreibung/f92b6b2b-ae90-451f-92b2-ad587c70516d/
URL:https://ausschreibungsradar.com/ausschreibung/f92b6b2b-ae90-451f-92b2-ad587c70516d/
END:VEVENT
BEGIN:VEVENT
UID:b77342c98dc64a17@ausschreibungsradar.com
DTSTAMP:20260426T013328Z
DTSTART;VALUE=DATE:20260226
DTEND;VALUE=DATE:20260226
SUMMARY:Vergabeergebnis — Abschluss eines Rahmenvertrages über die Unterhaltsreinigung
DESCRIPTION:Phase: Vergabeergebnis | Beschreibung: Auftrag wurde zugeschlagen | Link: https://ausschreibungsradar.com/ausschreibung/f977b2d0-6644-41ee-a278-6660c57b6710/
URL:https://ausschreibungsradar.com/ausschreibung/f977b2d0-6644-41ee-a278-6660c57b6710/
END:VEVENT
END:VCALENDAR
