BEGIN:VCALENDAR
VERSION:2.0
PRODID:-//AusschreibungsRadar//Timeline//DE
CALSCALE:GREGORIAN
METHOD:PUBLISH
X-WR-CALNAME:Projekt Erw. Feuerwehrstützpunkt Ehingen, Elektroinstallation
X-WR-TIMEZONE:Europe/Berlin
BEGIN:VEVENT
UID:b1c6e1ed519d0cb6@ausschreibungsradar.com
DTSTAMP:20260424T134847Z
DTSTART;VALUE=DATE:20250623
DTEND;VALUE=DATE:20250623
SUMMARY:Angebotsfrist — Erw. Feuerwehrstützpunkt Ehingen\, Elektroinstallation
DESCRIPTION:Phase: Ausschreibung | Beschreibung: Angebote werden eingeholt | Link: https://ausschreibungsradar.com/ausschreibung/abaa162b-41a0-44ec-bfef-b95aa47d60e8/
URL:https://ausschreibungsradar.com/ausschreibung/abaa162b-41a0-44ec-bfef-b95aa47d60e8/
END:VEVENT
BEGIN:VEVENT
UID:f04f9e3952fd70af@ausschreibungsradar.com
DTSTAMP:20260424T134847Z
DTSTART;VALUE=DATE:20250519
DTEND;VALUE=DATE:20250519
SUMMARY:Ausschreibung — Erw. Feuerwehrstützpunkt Ehingen\, Elektroinstallation
DESCRIPTION:Phase: Ausschreibung | Beschreibung: Offizielle Ausschreibung mit Bieterfrist. | Link: https://ausschreibungsradar.com/ausschreibung/02704f75-2ecf-4c8e-9987-c0041bbe7633/
URL:https://ausschreibungsradar.com/ausschreibung/02704f75-2ecf-4c8e-9987-c0041bbe7633/
END:VEVENT
BEGIN:VEVENT
UID:5fbfdb99832f5bf9@ausschreibungsradar.com
DTSTAMP:20260424T134847Z
DTSTART;VALUE=DATE:20250519
DTEND;VALUE=DATE:20250519
SUMMARY:Ausschreibung — Erw. Feuerwehrstützpunkt Ehingen\, Elektroinstallation
DESCRIPTION:Phase: Ausschreibung | Beschreibung: Offizielle Ausschreibung mit Bieterfrist. | Link: https://ausschreibungsradar.com/ausschreibung/7f2d5cad-736d-41e6-ada6-e3604774b2e5/
URL:https://ausschreibungsradar.com/ausschreibung/7f2d5cad-736d-41e6-ada6-e3604774b2e5/
END:VEVENT
BEGIN:VEVENT
UID:806d652fcf5a3391@ausschreibungsradar.com
DTSTAMP:20260424T134847Z
DTSTART;VALUE=DATE:20250520
DTEND;VALUE=DATE:20250520
SUMMARY:Ausschreibung — Erw. Feuerwehrstützpunkt Ehingen\, Elektroinstallation
DESCRIPTION:Phase: Ausschreibung | Beschreibung: Offizielle Ausschreibung mit Bieterfrist. | Link: https://ausschreibungsradar.com/ausschreibung/d6075c24-e799-48ff-9324-805c740646f4/
URL:https://ausschreibungsradar.com/ausschreibung/d6075c24-e799-48ff-9324-805c740646f4/
END:VEVENT
BEGIN:VEVENT
UID:c4d50c010b919c70@ausschreibungsradar.com
DTSTAMP:20260424T134847Z
DTSTART;VALUE=DATE:20250520
DTEND;VALUE=DATE:20250520
SUMMARY:Ausschreibung — Erw. Feuerwehrstützpunkt Ehingen\, Elektroinstallation
DESCRIPTION:Phase: Ausschreibung | Beschreibung: Offizielle Ausschreibung mit Bieterfrist. | Link: https://ausschreibungsradar.com/ausschreibung/fadd0660-2bef-4fd2-b7f4-7d1179498c6d/
URL:https://ausschreibungsradar.com/ausschreibung/fadd0660-2bef-4fd2-b7f4-7d1179498c6d/
END:VEVENT
BEGIN:VEVENT
UID:8515fe3f0f066ad0@ausschreibungsradar.com
DTSTAMP:20260424T134847Z
DTSTART;VALUE=DATE:20250804
DTEND;VALUE=DATE:20250804
SUMMARY:Vergabeergebnis — Erw. Feuerwehrstützpunkt Ehingen\, Elektroinstallation
DESCRIPTION:Phase: Vergabeergebnis | Beschreibung: Auftrag wurde zugeschlagen | Link: https://ausschreibungsradar.com/ausschreibung/467e5149-e232-466f-b8ff-1918103cb1b2/
URL:https://ausschreibungsradar.com/ausschreibung/467e5149-e232-466f-b8ff-1918103cb1b2/
END:VEVENT
END:VCALENDAR
