BEGIN:VCALENDAR
VERSION:2.0
PRODID:-//AusschreibungsRadar//Timeline//DE
CALSCALE:GREGORIAN
METHOD:PUBLISH
X-WR-CALNAME:Projekt NZTO Sielbau und Straßenentwässerung
X-WR-TIMEZONE:Europe/Berlin
BEGIN:VEVENT
UID:260216c8e57699d6@ausschreibungsradar.com
DTSTAMP:20260424T151425Z
DTSTART;VALUE=DATE:20260109
DTEND;VALUE=DATE:20260109
SUMMARY:Angebotsfrist — NZTO Sielbau und Straßenentwässerung
DESCRIPTION:Phase: Ausschreibung | Beschreibung: Angebote werden eingeholt | Link: https://ausschreibungsradar.com/ausschreibung/67fe5d28-7191-4c47-a2ed-f529173eaa40/ | Geschätzter Wert: 14200000 €
URL:https://ausschreibungsradar.com/ausschreibung/67fe5d28-7191-4c47-a2ed-f529173eaa40/
END:VEVENT
BEGIN:VEVENT
UID:13e2dc06cf7d25b4@ausschreibungsradar.com
DTSTAMP:20260424T151425Z
DTSTART;VALUE=DATE:20251016
DTEND;VALUE=DATE:20251016
SUMMARY:Ausschreibung — NZTO Sielbau und Straßenentwässerung
DESCRIPTION:Phase: Ausschreibung | Beschreibung: Offizielle Ausschreibung mit Bieterfrist. | Link: https://ausschreibungsradar.com/ausschreibung/7e3d1d51-219b-4305-8ad0-1b114139dc96/
URL:https://ausschreibungsradar.com/ausschreibung/7e3d1d51-219b-4305-8ad0-1b114139dc96/
END:VEVENT
BEGIN:VEVENT
UID:c6cff00db1b35a9e@ausschreibungsradar.com
DTSTAMP:20260424T151425Z
DTSTART;VALUE=DATE:20260302
DTEND;VALUE=DATE:20260302
SUMMARY:Vergabeergebnis — NZTO Sielbau und Straßenentwässerung
DESCRIPTION:Phase: Vergabeergebnis | Beschreibung: Auftrag wurde zugeschlagen | Link: https://ausschreibungsradar.com/ausschreibung/ad0146f9-9f57-4fca-bd4b-c27f33de94e2/ | Geschätzter Wert: 14200000 €
URL:https://ausschreibungsradar.com/ausschreibung/ad0146f9-9f57-4fca-bd4b-c27f33de94e2/
END:VEVENT
END:VCALENDAR
