BEGIN:VCALENDAR
VERSION:2.0
PRODID:-//AusschreibungsRadar//Timeline//DE
CALSCALE:GREGORIAN
METHOD:PUBLISH
X-WR-CALNAME:Projekt POM / Kommunaler Wohnungsbau mit Tiefgarage in Eching - VE14
X-WR-TIMEZONE:Europe/Berlin
BEGIN:VEVENT
UID:1161a11f28a6b9c8@ausschreibungsradar.com
DTSTAMP:20260425T161729Z
DTSTART;VALUE=DATE:20260127
DTEND;VALUE=DATE:20260127
SUMMARY:Angebotsfrist — POM / Kommunaler Wohnungsbau mit Tiefgarage in Eching - VE14
DESCRIPTION:Phase: Ausschreibung | Beschreibung: Angebote werden eingeholt | Link: https://ausschreibungsradar.com/ausschreibung/ae5e7194-eaa6-44b7-9eaf-8fad983914e3/
URL:https://ausschreibungsradar.com/ausschreibung/ae5e7194-eaa6-44b7-9eaf-8fad983914e3/
END:VEVENT
BEGIN:VEVENT
UID:1a90505ca2cdb11b@ausschreibungsradar.com
DTSTAMP:20260425T161729Z
DTSTART;VALUE=DATE:20251211
DTEND;VALUE=DATE:20251211
SUMMARY:Ausschreibung — POM / Kommunaler Wohnungsbau mit Tiefgarage in Eching - VE14
DESCRIPTION:Phase: Ausschreibung | Beschreibung: Offizielle Ausschreibung mit Bieterfrist. | Link: https://ausschreibungsradar.com/ausschreibung/5fa1ca89-307f-41a2-adc9-6f36a0b6163d/
URL:https://ausschreibungsradar.com/ausschreibung/5fa1ca89-307f-41a2-adc9-6f36a0b6163d/
END:VEVENT
BEGIN:VEVENT
UID:0a2653ff9d473f54@ausschreibungsradar.com
DTSTAMP:20260425T161729Z
DTSTART;VALUE=DATE:20260319
DTEND;VALUE=DATE:20260319
SUMMARY:Vergabeergebnis — POM / Kommunaler Wohnungsbau mit Tiefgarage in Eching - VE14
DESCRIPTION:Phase: Vergabeergebnis | Beschreibung: Auftrag wurde zugeschlagen | Link: https://ausschreibungsradar.com/ausschreibung/10406e16-1eb3-4058-902f-69c9055cbc89/
URL:https://ausschreibungsradar.com/ausschreibung/10406e16-1eb3-4058-902f-69c9055cbc89/
END:VEVENT
END:VCALENDAR
