BEGIN:VCALENDAR
VERSION:2.0
PRODID:-//AusschreibungsRadar//Timeline//DE
CALSCALE:GREGORIAN
METHOD:PUBLISH
X-WR-CALNAME:Projekt BAM TTS Horstwalde, Neubau PF Druckgefäße und Gasspeicher, S
X-WR-TIMEZONE:Europe/Berlin
BEGIN:VEVENT
UID:39e3b6ebd5f0f1b5@ausschreibungsradar.com
DTSTAMP:20260424T042953Z
DTSTART;VALUE=DATE:20250808
DTEND;VALUE=DATE:20250808
SUMMARY:Angebotsfrist — BAM TTS Horstwalde\, Neubau PF Druckgefäße und Gasspeicher\, S
DESCRIPTION:Phase: Ausschreibung | Beschreibung: Angebote werden eingeholt | Link: https://ausschreibungsradar.com/ausschreibung/0da03051-8ceb-427e-8c14-908c9b6e0dfb/
URL:https://ausschreibungsradar.com/ausschreibung/0da03051-8ceb-427e-8c14-908c9b6e0dfb/
END:VEVENT
BEGIN:VEVENT
UID:53224990c9169521@ausschreibungsradar.com
DTSTAMP:20260424T042953Z
DTSTART;VALUE=DATE:20250911
DTEND;VALUE=DATE:20250911
SUMMARY:Vergabeergebnis — BAM TTS Horstwalde\, Neubau PF Druckgefäße und Gasspeicher\, S
DESCRIPTION:Phase: Vergabeergebnis | Beschreibung: Auftrag wurde zugeschlagen | Link: https://ausschreibungsradar.com/ausschreibung/aeccb6d5-eb5b-45ac-8be2-dbf76c584a48/
URL:https://ausschreibungsradar.com/ausschreibung/aeccb6d5-eb5b-45ac-8be2-dbf76c584a48/
END:VEVENT
BEGIN:VEVENT
UID:ca544d678925d5e8@ausschreibungsradar.com
DTSTAMP:20260424T042953Z
DTSTART;VALUE=DATE:20250911
DTEND;VALUE=DATE:20250911
SUMMARY:Zuschlag — BAM TTS Horstwalde\, Neubau PF Druckgefäße und Gasspeicher\, S
DESCRIPTION:Phase: Zuschlag | Beschreibung: Vergabeergebnis — Auftrag wurde erteilt oder Verfahren beendet. | Link: https://ausschreibungsradar.com/ausschreibung/4cc77ac0-db9c-4f7e-87cd-de4b9d500cf2/
URL:https://ausschreibungsradar.com/ausschreibung/4cc77ac0-db9c-4f7e-87cd-de4b9d500cf2/
END:VEVENT
END:VCALENDAR
