BEGIN:VCALENDAR
VERSION:2.0
PRODID:-//AusschreibungsRadar//Timeline//DE
CALSCALE:GREGORIAN
METHOD:PUBLISH
X-WR-CALNAME:Projekt Freianlagen
X-WR-TIMEZONE:Europe/Berlin
BEGIN:VEVENT
UID:f042880d76f3cc53@ausschreibungsradar.com
DTSTAMP:20260426T004713Z
DTSTART;VALUE=DATE:20260209
DTEND;VALUE=DATE:20260209
SUMMARY:Angebotsfrist — Freianlagen
DESCRIPTION:Phase: Ausschreibung | Beschreibung: Angebote werden eingeholt | Link: https://ausschreibungsradar.com/ausschreibung/af3cd853-6fe9-4d07-87e1-40680ff3d312/
URL:https://ausschreibungsradar.com/ausschreibung/af3cd853-6fe9-4d07-87e1-40680ff3d312/
END:VEVENT
BEGIN:VEVENT
UID:b87a7737b7aad933@ausschreibungsradar.com
DTSTAMP:20260426T004713Z
DTSTART;VALUE=DATE:20260107
DTEND;VALUE=DATE:20260107
SUMMARY:Ausschreibung — Freianlagen
DESCRIPTION:Phase: Ausschreibung | Beschreibung: Offizielle Ausschreibung mit Bieterfrist. | Link: https://ausschreibungsradar.com/ausschreibung/b05df6ec-28d9-4793-96ce-4e91efbc4508/
URL:https://ausschreibungsradar.com/ausschreibung/b05df6ec-28d9-4793-96ce-4e91efbc4508/
END:VEVENT
BEGIN:VEVENT
UID:2c5e005dd36bfb60@ausschreibungsradar.com
DTSTAMP:20260426T004713Z
DTSTART;VALUE=DATE:20260416
DTEND;VALUE=DATE:20260416
SUMMARY:Vergabeergebnis — Freianlagen
DESCRIPTION:Phase: Vergabeergebnis | Beschreibung: Auftrag wurde zugeschlagen | Link: https://ausschreibungsradar.com/ausschreibung/8dffbf85-4dc7-4b73-8cdf-e1993a289e31/
URL:https://ausschreibungsradar.com/ausschreibung/8dffbf85-4dc7-4b73-8cdf-e1993a289e31/
END:VEVENT
END:VCALENDAR
