BEGIN:VCALENDAR
VERSION:2.0
PRODID:-//AusschreibungsRadar//Timeline//DE
CALSCALE:GREGORIAN
METHOD:PUBLISH
X-WR-CALNAME:Projekt Biotop- und Lebensraumtypenkartierung Nordwestmecklenburg 20
X-WR-TIMEZONE:Europe/Berlin
BEGIN:VEVENT
UID:d90a96b923fee55e@ausschreibungsradar.com
DTSTAMP:20260424T074455Z
DTSTART;VALUE=DATE:20231207
DTEND;VALUE=DATE:20231207
SUMMARY:Angebotsfrist — Biotop- und Lebensraumtypenkartierung Nordwestmecklenburg 20
DESCRIPTION:Phase: Ausschreibung | Beschreibung: Angebote werden eingeholt | Link: https://ausschreibungsradar.com/ausschreibung/d2bfd549-b81a-48bf-9813-77a99d79ed65/ | Geschätzter Wert: 118714 €
URL:https://ausschreibungsradar.com/ausschreibung/d2bfd549-b81a-48bf-9813-77a99d79ed65/
END:VEVENT
BEGIN:VEVENT
UID:ef4da3cb4a8e111d@ausschreibungsradar.com
DTSTAMP:20260424T074455Z
DTSTART;VALUE=DATE:20240206
DTEND;VALUE=DATE:20240206
SUMMARY:Vergabeergebnis — Biotop- und Lebensraumtypenkartierung Nordwestmecklenburg 20
DESCRIPTION:Phase: Vergabeergebnis | Beschreibung: Auftrag wurde zugeschlagen | Link: https://ausschreibungsradar.com/ausschreibung/af4bcc2e-3184-43f2-a036-e6c073ebf91b/ | Geschätzter Wert: 118714 €
URL:https://ausschreibungsradar.com/ausschreibung/af4bcc2e-3184-43f2-a036-e6c073ebf91b/
END:VEVENT
END:VCALENDAR
