BEGIN:VCALENDAR
VERSION:2.0
PRODID:-//AusschreibungsRadar//Timeline//DE
CALSCALE:GREGORIAN
METHOD:PUBLISH
X-WR-CALNAME:Projekt Lieferung von Digitalfunkgeräten und Zubehör
X-WR-TIMEZONE:Europe/Berlin
BEGIN:VEVENT
UID:96377959ce6b12aa@ausschreibungsradar.com
DTSTAMP:20260423T235507Z
DTSTART;VALUE=DATE:20260129
DTEND;VALUE=DATE:20260129
SUMMARY:Angebotsfrist — Lieferung von Digitalfunkgeräten und Zubehör
DESCRIPTION:Phase: Ausschreibung | Beschreibung: Angebote werden eingeholt | Link: https://ausschreibungsradar.com/ausschreibung/a5dbc779-725c-400f-ac04-560e899e1cc5/
URL:https://ausschreibungsradar.com/ausschreibung/a5dbc779-725c-400f-ac04-560e899e1cc5/
END:VEVENT
BEGIN:VEVENT
UID:099ac97b0e44b893@ausschreibungsradar.com
DTSTAMP:20260423T235507Z
DTSTART;VALUE=DATE:20260310
DTEND;VALUE=DATE:20260310
SUMMARY:Vergabeergebnis — Lieferung von Digitalfunkgeräten und Zubehör
DESCRIPTION:Phase: Vergabeergebnis | Beschreibung: Auftrag wurde zugeschlagen | Link: https://ausschreibungsradar.com/ausschreibung/af54fc91-d280-4f6c-86fd-5bb3750301cd/
URL:https://ausschreibungsradar.com/ausschreibung/af54fc91-d280-4f6c-86fd-5bb3750301cd/
END:VEVENT
END:VCALENDAR
