BEGIN:VCALENDAR
VERSION:2.0
PRODID:-//AusschreibungsRadar//Timeline//DE
CALSCALE:GREGORIAN
METHOD:PUBLISH
X-WR-CALNAME:Projekt MKK: Stadtschule Schlüchtern, Lüftung
X-WR-TIMEZONE:Europe/Berlin
BEGIN:VEVENT
UID:ac9a2c4477ba507c@ausschreibungsradar.com
DTSTAMP:20260424T112920Z
DTSTART;VALUE=DATE:20240325
DTEND;VALUE=DATE:20240325
SUMMARY:Ausschreibung — MKK: Stadtschule Schlüchtern\, Lüftung
DESCRIPTION:Phase: Ausschreibung | Beschreibung: Angebote werden eingeholt | Link: https://ausschreibungsradar.com/ausschreibung/0cf48bce-1650-4d6a-a01a-fdd2f88db349/
URL:https://ausschreibungsradar.com/ausschreibung/0cf48bce-1650-4d6a-a01a-fdd2f88db349/
END:VEVENT
BEGIN:VEVENT
UID:9cc7feb04e1b6c78@ausschreibungsradar.com
DTSTAMP:20260424T112920Z
DTSTART;VALUE=DATE:20240612
DTEND;VALUE=DATE:20240612
SUMMARY:Zuschlag — MKK: Stadtschule Schlüchtern\, Lüftung
DESCRIPTION:Phase: Zuschlag | Beschreibung: Vergabeergebnis — Auftrag wurde erteilt oder Verfahren beendet. | Link: https://ausschreibungsradar.com/ausschreibung/6b61dc0a-024a-4a88-9942-d791ff828df9/
URL:https://ausschreibungsradar.com/ausschreibung/6b61dc0a-024a-4a88-9942-d791ff828df9/
END:VEVENT
BEGIN:VEVENT
UID:f9529844518335a2@ausschreibungsradar.com
DTSTAMP:20260424T112920Z
DTSTART;VALUE=DATE:20240627
DTEND;VALUE=DATE:20240627
SUMMARY:Vergabeergebnis — MKK: Stadtschule Schlüchtern\, Lüftung
DESCRIPTION:Phase: Vergabeergebnis | Beschreibung: Auftrag wurde zugeschlagen | Link: https://ausschreibungsradar.com/ausschreibung/af622df0-7a07-464e-bb6e-cd675c7aceea/
URL:https://ausschreibungsradar.com/ausschreibung/af622df0-7a07-464e-bb6e-cd675c7aceea/
END:VEVENT
BEGIN:VEVENT
UID:10d4392e516c2031@ausschreibungsradar.com
DTSTAMP:20260424T112920Z
DTSTART;VALUE=DATE:20240716
DTEND;VALUE=DATE:20240716
SUMMARY:Zuschlag — MKK: Stadtschule Schlüchtern\, Lüftung
DESCRIPTION:Phase: Zuschlag | Beschreibung: Vergabeergebnis — Auftrag wurde erteilt oder Verfahren beendet. | Link: https://ausschreibungsradar.com/ausschreibung/3aadbce8-36fb-4577-b928-ecfe04182406/
URL:https://ausschreibungsradar.com/ausschreibung/3aadbce8-36fb-4577-b928-ecfe04182406/
END:VEVENT
BEGIN:VEVENT
UID:faaf844f58583130@ausschreibungsradar.com
DTSTAMP:20260424T112920Z
DTSTART;VALUE=DATE:20240716
DTEND;VALUE=DATE:20240716
SUMMARY:Zuschlag — MKK: Stadtschule Schlüchtern\, Lüftung
DESCRIPTION:Phase: Zuschlag | Beschreibung: Vergabeergebnis — Auftrag wurde erteilt oder Verfahren beendet. | Link: https://ausschreibungsradar.com/ausschreibung/28691a78-195c-4c33-b39d-146addf86f50/
URL:https://ausschreibungsradar.com/ausschreibung/28691a78-195c-4c33-b39d-146addf86f50/
END:VEVENT
BEGIN:VEVENT
UID:fd6949e524adbba3@ausschreibungsradar.com
DTSTAMP:20260424T112920Z
DTSTART;VALUE=DATE:20240718
DTEND;VALUE=DATE:20240718
SUMMARY:Zuschlag — MKK: Stadtschule Schlüchtern\, Lüftung
DESCRIPTION:Phase: Zuschlag | Beschreibung: Vergabeergebnis — Auftrag wurde erteilt oder Verfahren beendet. | Link: https://ausschreibungsradar.com/ausschreibung/03d34053-336f-46ad-8a4e-4a99b83463a9/
URL:https://ausschreibungsradar.com/ausschreibung/03d34053-336f-46ad-8a4e-4a99b83463a9/
END:VEVENT
END:VCALENDAR
