BEGIN:VCALENDAR
VERSION:2.0
PRODID:-//AusschreibungsRadar//Timeline//DE
CALSCALE:GREGORIAN
METHOD:PUBLISH
X-WR-CALNAME:Projekt Maler- und Bodenbelagarbeiten - Sanierung und Erweiterung Wo
X-WR-TIMEZONE:Europe/Berlin
BEGIN:VEVENT
UID:e0b58ac06093d925@ausschreibungsradar.com
DTSTAMP:20260425T031102Z
DTSTART;VALUE=DATE:20250801
DTEND;VALUE=DATE:20250801
SUMMARY:Zuschlag — Maler- und Bodenbelagarbeiten - Sanierung und Erweiterung Wo
DESCRIPTION:Phase: Zuschlag | Beschreibung: Vergabeergebnis — Auftrag wurde erteilt oder Verfahren beendet. | Link: https://ausschreibungsradar.com/ausschreibung/3b0ce9d1-528b-4d54-b02c-019c4c1266ae/
URL:https://ausschreibungsradar.com/ausschreibung/3b0ce9d1-528b-4d54-b02c-019c4c1266ae/
END:VEVENT
BEGIN:VEVENT
UID:921d3e16a58abc68@ausschreibungsradar.com
DTSTAMP:20260425T031102Z
DTSTART;VALUE=DATE:20250905
DTEND;VALUE=DATE:20250905
SUMMARY:Angebotsfrist — Maler- und Bodenbelagarbeiten - Sanierung und Erweiterung Wo
DESCRIPTION:Phase: Ausschreibung | Beschreibung: Angebote werden eingeholt | Link: https://ausschreibungsradar.com/ausschreibung/afa5f7ef-82e2-4c7d-a086-2d6974a1464b/
URL:https://ausschreibungsradar.com/ausschreibung/afa5f7ef-82e2-4c7d-a086-2d6974a1464b/
END:VEVENT
BEGIN:VEVENT
UID:c70c9140e368376a@ausschreibungsradar.com
DTSTAMP:20260425T031102Z
DTSTART;VALUE=DATE:20250903
DTEND;VALUE=DATE:20250903
SUMMARY:Ausschreibung — Maler- und Bodenbelagarbeiten - Sanierung und Erweiterung Wo
DESCRIPTION:Phase: Ausschreibung | Beschreibung: Offizielle Ausschreibung mit Bieterfrist. | Link: https://ausschreibungsradar.com/ausschreibung/369ed587-640d-4ef3-b68a-c5f4f3091b79/
URL:https://ausschreibungsradar.com/ausschreibung/369ed587-640d-4ef3-b68a-c5f4f3091b79/
END:VEVENT
BEGIN:VEVENT
UID:89ae6def2969a552@ausschreibungsradar.com
DTSTAMP:20260425T031102Z
DTSTART;VALUE=DATE:20251023
DTEND;VALUE=DATE:20251023
SUMMARY:Vergabeergebnis — Maler- und Bodenbelagarbeiten - Sanierung und Erweiterung Wo
DESCRIPTION:Phase: Vergabeergebnis | Beschreibung: Auftrag wurde zugeschlagen | Link: https://ausschreibungsradar.com/ausschreibung/0d870228-8f1f-4473-88e7-f55d912ab883/
URL:https://ausschreibungsradar.com/ausschreibung/0d870228-8f1f-4473-88e7-f55d912ab883/
END:VEVENT
END:VCALENDAR
