BEGIN:VCALENDAR
VERSION:2.0
PRODID:-//AusschreibungsRadar//Timeline//DE
CALSCALE:GREGORIAN
METHOD:PUBLISH
X-WR-CALNAME:Projekt Sicherheitsdienst
X-WR-TIMEZONE:Europe/Berlin
BEGIN:VEVENT
UID:a7fa66ee31ba2896@ausschreibungsradar.com
DTSTAMP:20260424T115424Z
DTSTART;VALUE=DATE:20240709
DTEND;VALUE=DATE:20240709
SUMMARY:Angebotsfrist — Sicherheitsdienst
DESCRIPTION:Phase: Ausschreibung | Beschreibung: Angebote werden eingeholt | Link: https://ausschreibungsradar.com/ausschreibung/be99e831-8e2c-4258-bbe7-5817e30a38e4/ | Geschätzter Wert: 727900 €
URL:https://ausschreibungsradar.com/ausschreibung/be99e831-8e2c-4258-bbe7-5817e30a38e4/
END:VEVENT
BEGIN:VEVENT
UID:55dd6a4b1927ce18@ausschreibungsradar.com
DTSTAMP:20260424T115424Z
DTSTART;VALUE=DATE:20240820
DTEND;VALUE=DATE:20240820
SUMMARY:Vergabeergebnis — Sicherheitsdienst
DESCRIPTION:Phase: Vergabeergebnis | Beschreibung: Auftrag wurde zugeschlagen | Link: https://ausschreibungsradar.com/ausschreibung/afdad79f-4702-4a53-a4e8-2098646c5ed2/
URL:https://ausschreibungsradar.com/ausschreibung/afdad79f-4702-4a53-a4e8-2098646c5ed2/
END:VEVENT
END:VCALENDAR
