BEGIN:VCALENDAR
VERSION:2.0
PRODID:-//AusschreibungsRadar//Timeline//DE
CALSCALE:GREGORIAN
METHOD:PUBLISH
X-WR-CALNAME:Projekt Neubau Lebenshilfeschule mit Tagesstätte Landau a.d.Isar; Me
X-WR-TIMEZONE:Europe/Berlin
BEGIN:VEVENT
UID:62d9d48398615a8a@ausschreibungsradar.com
DTSTAMP:20260424T222720Z
DTSTART;VALUE=DATE:20240909
DTEND;VALUE=DATE:20240909
SUMMARY:Angebotsfrist — Neubau Lebenshilfeschule mit Tagesstätte Landau a.d.Isar\; Me
DESCRIPTION:Phase: Ausschreibung | Beschreibung: Angebote werden eingeholt | Link: https://ausschreibungsradar.com/ausschreibung/b1490338-e833-433b-98f8-60a331a83f41/
URL:https://ausschreibungsradar.com/ausschreibung/b1490338-e833-433b-98f8-60a331a83f41/
END:VEVENT
BEGIN:VEVENT
UID:c579107ce9265d08@ausschreibungsradar.com
DTSTAMP:20260424T222720Z
DTSTART;VALUE=DATE:20240929
DTEND;VALUE=DATE:20240929
SUMMARY:Zuschlag — Neubau Lebenshilfeschule mit Tagesstätte Landau a.d.Isar\; Me
DESCRIPTION:Phase: Zuschlag | Beschreibung: Vergabeergebnis — Auftrag wurde erteilt oder Verfahren beendet. | Link: https://ausschreibungsradar.com/ausschreibung/bb6f8c93-fdcf-4c39-bb4d-f565cc96205f/
URL:https://ausschreibungsradar.com/ausschreibung/bb6f8c93-fdcf-4c39-bb4d-f565cc96205f/
END:VEVENT
BEGIN:VEVENT
UID:dfe3866290bcfcc5@ausschreibungsradar.com
DTSTAMP:20260424T222720Z
DTSTART;VALUE=DATE:20241026
DTEND;VALUE=DATE:20241026
SUMMARY:Vergabeergebnis — Neubau Lebenshilfeschule mit Tagesstätte Landau a.d.Isar\; Me
DESCRIPTION:Phase: Vergabeergebnis | Beschreibung: Auftrag wurde zugeschlagen | Link: https://ausschreibungsradar.com/ausschreibung/b06d06c9-c26d-4e10-8b9f-4fc1f3479409/ | Auftragnehmer: EXG Media
URL:https://ausschreibungsradar.com/ausschreibung/b06d06c9-c26d-4e10-8b9f-4fc1f3479409/
END:VEVENT
BEGIN:VEVENT
UID:d25a5e0df45c513b@ausschreibungsradar.com
DTSTAMP:20260424T222720Z
DTSTART;VALUE=DATE:20241119
DTEND;VALUE=DATE:20241119
SUMMARY:Ausschreibung — Neubau Lebenshilfeschule mit Tagesstätte Landau a.d.Isar\; Me
DESCRIPTION:Phase: Ausschreibung | Beschreibung: Offizielle Ausschreibung mit Bieterfrist. | Link: https://ausschreibungsradar.com/ausschreibung/84cfa0b0-e30c-4291-82c7-44b1a18d622e/
URL:https://ausschreibungsradar.com/ausschreibung/84cfa0b0-e30c-4291-82c7-44b1a18d622e/
END:VEVENT
END:VCALENDAR
